BEGIN:VCALENDAR
VERSION:2.0
PRODID:-//Baie-Saint-Paul Guide//NONSGML kigkonsult.se iCalcreator 2.30.10/
 /
CALSCALE:GREGORIAN
METHOD:PUBLISH
UID:e3269135-8591-4761-97ea-54f1c4ae2eea
X-WR-CALNAME:iCagenda
X-WR-CALDESC:Event Management Extension for Joomla!
X-WR-RELCALID:3E26604A-50F4-4449-8B3E-E4F4932D05B5
X-WR-TIMEZONE:America/Toronto
BEGIN:VTIMEZONE
TZID:America/Toronto
BEGIN:STANDARD
TZNAME:EST
DTSTART:20241103T020000
TZOFFSETFROM:-0400
TZOFFSETTO:-0500
RDATE:20251102T020000
END:STANDARD
BEGIN:DAYLIGHT
TZNAME:EDT
DTSTART:20240310T020000
TZOFFSETFROM:-0500
TZOFFSETTO:-0400
RDATE:20250309T020000
RDATE:20260308T020000
END:DAYLIGHT
END:VTIMEZONE
BEGIN:VEVENT
UID:41092d18-ae69-42ca-8d01-c12a0e08dd8a
DTSTAMP:20260423T030613Z
CATEGORIES:Soirée
CLASS:PUBLIC
DESCRIPTION;ALTREP="CID:<FFFF__=0ABBE548DFE235B58f9e8a93d@coffeebean.com>":
 ILO et le Mousse Café sont très fier.es de présenter la 1re édition du Tou
 rnoi de Root dans Charlevoix qui se déroulera le 23 novembre 2024 au Mouss
 e Café\, coopérative de solidarité à Baie-St-Paul de 9h00 à 17h00. L’événe
 ment pourra accueillir 25 personnes maximum.\nVous adorez le jeu de sociét
 é ROOT et vous aimeriez y jouer davantage? Vous avez toujours été intrigué
  par ce chef-d’œuvre de l’affrontement asymétrique\, mais n’avez jamais os
 é vous lancer? C’est l’occasion d’y jouer avec d’autres\, que vous soyez d
 ébutant.e ou expert.e\, tout le monde est le.la bienvenu.e. En participant
 \, vous courez la chance de remporter des prix qui seront généreusement of
 ferts par ÎLO ainsi que par le Mousse Café! Les participant.es pourront jo
 uer 1 à 2 parties de Root\, que vous gagniez ou non la manche qualificativ
 e.\nCette 1re édition utilisera strictement la mise en place avancée (Adva
 nced setup) pour toutes les parties du tournoi. Comme il s’agit de notre 1
 er événement de ce type\, les 2 plus récentes factions\, rats et blaireaux
 \, ne seront PAS incluses. Seules les factions chats\, oiseaux\, vagabond\
 , alliance\, lézards\, loutres\, corbeaux et taupes seront incluses. Nous 
 aurons quelques extensions rats/blaireaux disponibles pour des parties qui
  seront jouées entre perdants de la 1re ronde. Un maximum de 5 tables de 5
  joueurs sera possible dépendamment des inscriptions.\n Pour vous inscrire
  au tournoi:- Vous devez réserver votre place via le lien suivant: http://
 bit.ly/47xsQ2dVous pourrez procéder à l’achat de votre laissez-passer au c
 oût de 10$ chacun (*Non-Remboursable*) et ainsi réserver votre place pour 
 l’événement du 23 novembre 2024.\n- Les frais d’inscriptions pour l’événem
 ent couvrent votre participation à l’événement et l’accès au café ludique 
 pour la journée\, un porte-nom et la chance de remporter l’un des prix de 
 présences qui seront tirés à la fin de la journée.\n- Les inscriptions ser
 ont ouvertes jusqu’au 17 novembre 2024 ou jusqu’à ce que nous ayons le.a 2
 5e joueur.se inscrit.e. Donc\, faites vite pour réserver votre place.\nIl 
 s’agit d’une 1re édition pour ce tournoi dans notre petit café de Baie-St-
 Paul. On vous demande donc de l’indulgence et de l’ouverture lors de l'évé
 nement. Le but est de rassembler les amateurs de Root et simplement jouer 
 dans la bonne humeur. Au plaisir de s’amuser ensemble !\nUn merci tout spé
 cial à ILO de commanditer ce tournoi et à l’irremplaçable Jay-F Pellerin p
 our son support.\n- Pour accéder aux règlements du tournoi : https://docs.
 google.com/.../1YZ06r3QexEQaodYayI.../edit- Pour consulter la mise en plac
 e avancée: https://bit.ly/3MU9fQ5- Pour de l’hébergement abordable\, on su
 ggère notre membre de soutien\, l’Auberge des Balcons\, qui est situé dans
  le même bâtiment que le Mousse Café: https://aubergedesbalcons.com/
DTSTART:20241123T140000Z
DTEND:20241123T220000Z
GEO:+47.438541;-70.506607
LOCATION:Mousse Café - coopérative de solidarité
ORGANIZER:
SEQUENCE:1
SUMMARY:Root\, le Tournoi de Charlevoix
TRANSP:OPAQUE
URL:https://www.baiesaintpaulguide.com/component/icagenda/root-le-tournoi-d
 e-charlevoix.html?Itemid=103
END:VEVENT
END:VCALENDAR
