BEGIN:VCALENDAR
VERSION:2.0
PRODID:-//Baie-Saint-Paul Guide//NONSGML kigkonsult.se iCalcreator 2.30.10/
 /
CALSCALE:GREGORIAN
METHOD:PUBLISH
UID:125514b0-0145-4eec-8261-3add927c2914
X-WR-CALNAME:iCagenda
X-WR-CALDESC:Event Management Extension for Joomla!
X-WR-RELCALID:3E26604A-50F4-4449-8B3E-E4F4932D05B5
X-WR-TIMEZONE:America/Toronto
BEGIN:VTIMEZONE
TZID:America/Toronto
BEGIN:STANDARD
TZNAME:EST
DTSTART:20231105T020000
TZOFFSETFROM:-0400
TZOFFSETTO:-0500
RDATE:20241103T020000
RDATE:20251102T020000
END:STANDARD
BEGIN:DAYLIGHT
TZNAME:EDT
DTSTART:20240310T020000
TZOFFSETFROM:-0500
TZOFFSETTO:-0400
RDATE:20250309T020000
END:DAYLIGHT
END:VTIMEZONE
BEGIN:VEVENT
UID:302a20fd-f88b-4d56-880a-516920419035
DTSTAMP:20260423T093152Z
CATEGORIES:Le Festif!
CLASS:PUBLIC
DESCRIPTION;ALTREP="CID:<FFFF__=0ABBE548DFE235B58f9e8a93d@coffeebean.com>":
 Robert Robert se produira lors du Festif! de Baie-Saint-Paul\, dans le cad
 re de la Série URBANIA\, à Béton Provincial près de l'entrée du Parc du Go
 uffre\, un concert gratuit pour tous les spectateurs. Après avoir sorti so
 n single 'Alex' et annoncé son premier spectacle d'album aux Francos de Mo
 ntréal\, Robert Robert présente la chanson 'Télé'\, une ode aux héros du q
 uotidien sur un fond de synthé épique.\nDepuis la sortie de son premier al
 bum en français\, 'Silicone Villeray'\, Robert Robert a prouvé que sa tran
 sition de DJ à auteur-compositeur-interprète était réussie. Son deuxième a
 lbum\, 'Bienvenue Au Pays'\, sorti le 26 mai 2023\, est une exploration vu
 lnérable des émotions refoulées et des influences musicales variées. Venez
  découvrir en live cet artiste talentueux\, reconnu pour ses mélodies accr
 ocheuses et ses paroles poignantes.
DTSTART:20240718T230000Z
DTEND:20240719T000000Z
GEO:+47.447796;-70.510887
LOCATION:Série URBANIA : Béton Provincial
ORGANIZER:
SEQUENCE:1
SUMMARY:Robert Robert - Le Festif!
TRANSP:OPAQUE
URL:https://www.baiesaintpaulguide.com/component/icagenda/robert-robert-le-
 festif.html?Itemid=103
END:VEVENT
END:VCALENDAR
