BEGIN:VCALENDAR
VERSION:2.0
PRODID:-//Baie-Saint-Paul Guide//NONSGML kigkonsult.se iCalcreator 2.30.10/
 /
CALSCALE:GREGORIAN
METHOD:PUBLISH
UID:d215a6c6-16cb-46a9-a178-f7e18767422b
X-WR-CALNAME:iCagenda
X-WR-CALDESC:Event Management Extension for Joomla!
X-WR-RELCALID:3E26604A-50F4-4449-8B3E-E4F4932D05B5
X-WR-TIMEZONE:America/Toronto
BEGIN:VTIMEZONE
TZID:America/Toronto
BEGIN:STANDARD
TZNAME:EST
DTSTART:20231105T020000
TZOFFSETFROM:-0400
TZOFFSETTO:-0500
RDATE:20241103T020000
RDATE:20251102T020000
END:STANDARD
BEGIN:DAYLIGHT
TZNAME:EDT
DTSTART:20240310T020000
TZOFFSETFROM:-0500
TZOFFSETTO:-0400
RDATE:20250309T020000
END:DAYLIGHT
END:VTIMEZONE
BEGIN:VEVENT
UID:66be4238-5396-49d7-a44a-b5a80de113ee
DTSTAMP:20260423T093034Z
CATEGORIES:Rencontre
CLASS:PUBLIC
DESCRIPTION;ALTREP="CID:<FFFF__=0ABBE548DFE235B58f9e8a93d@coffeebean.com>":
 \nActivité gratuite\, libre\, ensoleillée et pour tousSentier de la Baie\n
 (départ au bout du chemin de la pointe\, chemin en gravel\, stationnement 
 sur la rue tout près)\n\nBienvenue aux aînés et aux nouveaux arrivants!\n
 \n\nVenez vivre de beau dimanche sur les chemins enchantés de Charlevoix p
 our vous connecter à la nature et à d'autres humains qui ont plein d'histo
 ires à vous raconter.\n\n\nN'oubliez pas d'apporter vos espadrilles\, une 
 gourde d'eau\, de l'anti-moustique\, un bâton de marche et tout autre équi
 pement pour votre confort&nbsp\;\n\n\n&nbsp\;\n(En cas de mauvais temps \,
  l'activité sera annulée.)\n\n\nInformation:\nAlexis Côté au 418 435-2503\
 , poste 240 ou alexis@cje-appui.qc.ca\n\n\nVos accompagnateurs officiels :
  Alexis Côté (Slow Rodriguez) et Isabelle Lapierre (Speedy Gonzales)\n
DTSTART:20240707T140000Z
DTEND:20240707T160000Z
GEO:+47.40535;-70.496399
LOCATION:Sentier de la Baie - Baie-Saint-Paul
ORGANIZER:
SEQUENCE:1
SUMMARY:Rando-Rencontre
TRANSP:OPAQUE
URL:https://www.baiesaintpaulguide.com/component/icagenda/rando-rencontre.h
 tml?Itemid=103
END:VEVENT
END:VCALENDAR
