BEGIN:VCALENDAR
VERSION:2.0
PRODID:-//Baie-Saint-Paul Guide//NONSGML kigkonsult.se iCalcreator 2.30.10/
 /
CALSCALE:GREGORIAN
METHOD:PUBLISH
UID:5dc6882d-92b5-4ec7-8a91-a77d6ae878f4
X-WR-CALNAME:iCagenda
X-WR-CALDESC:Event Management Extension for Joomla!
X-WR-RELCALID:3E26604A-50F4-4449-8B3E-E4F4932D05B5
X-WR-TIMEZONE:America/Toronto
BEGIN:VTIMEZONE
TZID:America/Toronto
BEGIN:STANDARD
TZNAME:EST
DTSTART:20241103T020000
TZOFFSETFROM:-0400
TZOFFSETTO:-0500
RDATE:20251102T020000
END:STANDARD
BEGIN:DAYLIGHT
TZNAME:EDT
DTSTART:20240310T020000
TZOFFSETFROM:-0500
TZOFFSETTO:-0400
RDATE:20250309T020000
RDATE:20260308T020000
END:DAYLIGHT
END:VTIMEZONE
BEGIN:VEVENT
UID:d97dbb63-8bfe-4032-82b3-842fba0a2be4
DTSTAMP:20260423T030743Z
CATEGORIES:Musée d'art contemporain de Baie-Saint-Paul
CLASS:PUBLIC
DESCRIPTION;ALTREP="CID:<FFFF__=0ABBE548DFE235B58f9e8a93d@coffeebean.com>":
 Cet automne\, le MACBSP vous présente gratuitement des documentaires sur l
 ’art\, en collaboration avec le FIFA (Festival international des films sur
  l’art)\nPour cette deuxième soirée nous présentons Graver l'homme\, un do
 cumentaire du réalisateur Loïc Darses sur l'artiste Pierre Hébert. Depuis 
 les années 1960\, l’illustre cinéaste d’animation a tout expérimenté : de 
 l’animation abstraite à des propositions plus narratives\, en passant par 
 le collage\, le dessin et la performance en direct. À l’aide d’une mise en
  scène sensible en noir et blanc transpercée d’éclats animés\, ce document
 aire suit le fil d’Ariane de la gravure sur pellicule pour nous transporte
 r dans le labyrinthe inspirant que forment la vie et l’œuvre de Pierre Héb
 ert.\nLieu : Pavillon du MACBSP (derrière le musée)Tarif : GratuitDurée : 
 75 minutes\nPour plus d’informations sur le film : https://www.onf.ca/.../
 graver-lhomme-arret-sur-pierre.../
DTSTART:20241114T000000Z
DTEND:20241114T011500Z
GEO:+47.440292;-70.505592
LOCATION:Musée d'art contemporain de Baie-Saint-Paul
ORGANIZER:
SEQUENCE:1
SUMMARY:Projection - Graver l’homme : Arrêt sur Pierre Hébert
TRANSP:OPAQUE
URL:https://www.baiesaintpaulguide.com/component/icagenda/projection-graver
 -lhomme-arret-sur-pierre-hebert.html?Itemid=103
END:VEVENT
END:VCALENDAR
