BEGIN:VCALENDAR
VERSION:2.0
PRODID:-//Baie-Saint-Paul Guide//NONSGML kigkonsult.se iCalcreator 2.30.10/
 /
CALSCALE:GREGORIAN
METHOD:PUBLISH
UID:a6fe4b06-0f5c-4e57-948d-0e59f56d27f6
X-WR-CALNAME:iCagenda
X-WR-CALDESC:Event Management Extension for Joomla!
X-WR-RELCALID:3E26604A-50F4-4449-8B3E-E4F4932D05B5
X-WR-TIMEZONE:America/Toronto
BEGIN:VTIMEZONE
TZID:America/Toronto
BEGIN:STANDARD
TZNAME:EST
DTSTART:20231105T020000
TZOFFSETFROM:-0400
TZOFFSETTO:-0500
RDATE:20241103T020000
RDATE:20251102T020000
END:STANDARD
BEGIN:DAYLIGHT
TZNAME:EDT
DTSTART:20240310T020000
TZOFFSETFROM:-0500
TZOFFSETTO:-0400
RDATE:20250309T020000
END:DAYLIGHT
END:VTIMEZONE
BEGIN:VEVENT
UID:ab6fa00c-606a-4285-9d63-1e1df25101ff
DTSTAMP:20260423T093213Z
CATEGORIES:Le Festif!
CLASS:PUBLIC
DESCRIPTION;ALTREP="CID:<FFFF__=0ABBE548DFE235B58f9e8a93d@coffeebean.com>":
 Rejoignez Philippe Brach au Pit à sable Hydro-Québec en collaboration avec
  Solotech à minuit. Cet artiste québécois\, reconnu pour son style unique 
 mêlant folk\, rock et poésie\, promet une performance inoubliable.\nPhilip
 pe Brach\, avec sa voix distinctive et ses textes poignants\, a su captive
 r le cœur de son public. Ne manquez pas cette occasion de vivre un moment 
 intense et authentique avec l'un des artistes les plus talentueux de la sc
 ène musicale québécoise.\nBILLETS
DTSTART:20240719T040000Z
DTEND:20240719T053000Z
GEO:+47.443401;-70.53965
LOCATION:Pit à sable Hydro-Québec en collaboration avec Solotech
ORGANIZER:
SEQUENCE:1
SUMMARY:Philippe Brach - Le Festif!
TRANSP:OPAQUE
URL:https://www.baiesaintpaulguide.com/component/icagenda/philippe-brach-le
 -festif.html?Itemid=103
END:VEVENT
END:VCALENDAR
