BEGIN:VCALENDAR
VERSION:2.0
PRODID:-//Baie-Saint-Paul Guide//NONSGML kigkonsult.se iCalcreator 2.30.10/
 /
CALSCALE:GREGORIAN
METHOD:PUBLISH
UID:71da760a-62cc-42b8-9885-c631d215395f
X-WR-CALNAME:iCagenda
X-WR-CALDESC:Event Management Extension for Joomla!
X-WR-RELCALID:3E26604A-50F4-4449-8B3E-E4F4932D05B5
X-WR-TIMEZONE:America/Toronto
BEGIN:VTIMEZONE
TZID:America/Toronto
BEGIN:STANDARD
TZNAME:EST
DTSTART:20241103T020000
TZOFFSETFROM:-0400
TZOFFSETTO:-0500
RDATE:20251102T020000
END:STANDARD
BEGIN:DAYLIGHT
TZNAME:EDT
DTSTART:20240310T020000
TZOFFSETFROM:-0500
TZOFFSETTO:-0400
RDATE:20250309T020000
RDATE:20260308T020000
END:DAYLIGHT
END:VTIMEZONE
BEGIN:VEVENT
UID:0bbe0ca7-4569-4d1b-a027-f4ba5af07179
DTSTAMP:20260423T012303Z
CATEGORIES:Marché de Noël de Baie-Saint-Paul
CLASS:PUBLIC
DESCRIPTION;ALTREP="CID:<FFFF__=0ABBE548DFE235B58f9e8a93d@coffeebean.com>":
 Le Festif t'invite à son fameux Parvis d'hiver dans le cadre de Illumine B
 aie-St-Paul ! \nC'est un rendez-vous dans la cour d'Hydromel Charlevoix dè
 s 17h30 pour boire\, manger\, danser et rigoler.\nVoici l'horaire officiel
  :\n17H30 - Ouverture du site18H - DJ Mean Bean (bubble pop glamrock disco
 )19H15 - DJ Yuki (électro new wave)20H30 - Arielle Roberge (disco house fu
 nky)21H45 - Le Couleur DJ set (funk italo disco house )------23H30 - Spect
 acle de DVTR dans le Tony et Charlo
DTSTART:20241207T223000Z
DTEND:20241208T045900Z
GEO:+47.443443;-70.508095
LOCATION:Hydromel Charlevoix
ORGANIZER:
SEQUENCE:1
SUMMARY:PARVIS D’HIVER DU FESTIF! durant Illumine Baie-St-Paul
TRANSP:OPAQUE
URL:https://www.baiesaintpaulguide.com/component/icagenda/parvis-dhiver-du-
 festif-durant-illumine-baie-st-paul.html?Itemid=103
END:VEVENT
END:VCALENDAR
