BEGIN:VCALENDAR
VERSION:2.0
PRODID:-//Baie-Saint-Paul Guide//NONSGML kigkonsult.se iCalcreator 2.30.10/
 /
CALSCALE:GREGORIAN
METHOD:PUBLISH
UID:e46d9152-66cf-449b-bf44-591806888208
X-WR-CALNAME:iCagenda
X-WR-CALDESC:Event Management Extension for Joomla!
X-WR-RELCALID:3E26604A-50F4-4449-8B3E-E4F4932D05B5
X-WR-TIMEZONE:America/Toronto
BEGIN:VTIMEZONE
TZID:America/Toronto
BEGIN:STANDARD
TZNAME:EST
DTSTART:20231105T020000
TZOFFSETFROM:-0400
TZOFFSETTO:-0500
RDATE:20241103T020000
RDATE:20251102T020000
END:STANDARD
BEGIN:DAYLIGHT
TZNAME:EDT
DTSTART:20240310T020000
TZOFFSETFROM:-0500
TZOFFSETTO:-0400
RDATE:20250309T020000
END:DAYLIGHT
END:VTIMEZONE
BEGIN:VEVENT
UID:7c3e06f4-c7da-4552-a358-c69f97f7f18c
DTSTAMP:20260423T093611Z
CATEGORIES:Le Festif!
CLASS:PUBLIC
DESCRIPTION;ALTREP="CID:<FFFF__=0ABBE548DFE235B58f9e8a93d@coffeebean.com>":
 Maude Arsenault DJ vous invite à célébrer l'ouverture de Le Festif! au Par
 vis. Cet événement gratuit est l'occasion parfaite pour démarrer le festiv
 al en beauté. Venez profiter de ses mix envoûtants et de son énergie conta
 gieuse pour une soirée mémorable au cœur de l'action!
DTSTART:20240717T221500Z
DTEND:20240717T234500Z
GEO:+47.439861;-70.506615
LOCATION:Le Parvis ICI Musique - Baie-Saint-Paul
ORGANIZER:
SEQUENCE:1
SUMMARY:Maude Arsenault DJ - Le Festif!
TRANSP:OPAQUE
URL:https://www.baiesaintpaulguide.com/component/icagenda/maude-arsenault-d
 j-le-festif.html?Itemid=103
END:VEVENT
END:VCALENDAR
