BEGIN:VCALENDAR
VERSION:2.0
PRODID:-//Baie-Saint-Paul Guide//NONSGML kigkonsult.se iCalcreator 2.30.10/
 /
CALSCALE:GREGORIAN
METHOD:PUBLISH
UID:3e4411d2-d5dd-47b7-bfe7-5e683eca29b4
X-WR-CALNAME:iCagenda
X-WR-CALDESC:Event Management Extension for Joomla!
X-WR-RELCALID:3E26604A-50F4-4449-8B3E-E4F4932D05B5
X-WR-TIMEZONE:America/Toronto
BEGIN:VTIMEZONE
TZID:America/Toronto
BEGIN:STANDARD
TZNAME:EST
DTSTART:20231105T020000
TZOFFSETFROM:-0400
TZOFFSETTO:-0500
RDATE:20241103T020000
RDATE:20251102T020000
END:STANDARD
BEGIN:DAYLIGHT
TZNAME:EDT
DTSTART:20240310T020000
TZOFFSETFROM:-0500
TZOFFSETTO:-0400
RDATE:20250309T020000
RDATE:20260308T020000
END:DAYLIGHT
END:VTIMEZONE
BEGIN:VEVENT
UID:caac4cc5-3696-4431-8dce-40ce89023b85
DTSTAMP:20260423T064945Z
CATEGORIES:Compétition sportive
CLASS:PUBLIC
DESCRIPTION;ALTREP="CID:<FFFF__=0ABBE548DFE235B58f9e8a93d@coffeebean.com>":
 La Ville de Baie-Saint-Paul a le plaisir de présenter ce match des Saguené
 ens de Chicoutimi vs les Remparts de Québec.\n\nQuand: Vendredi 13 septemb
 re 2024 à 19 h \n\nLieu: Aréna-Luc-et-Marie-Claude\n\nPrix: \n\nAdulte: 20
  $\nÉtudiant: 12 $ (carte d'étudiant demandée sur place)\nEnfant 5 à 12 an
 s: 7 $ \nMoins de 5 ans: Gratuit (une preuve peut être demandée sur place)
 \nAdmission générale\n\nProcurez-vous vos billets:\n\nÀ partir du mercredi
  12 juin à 10 h en ligne  (sélectionnez le 13 septembre dans le calendrier
 ).\n\nÀ partir du jeudi 13 juin à 10 h dans les points de vente suivants: 
 \n\nFerme Lamarre\n\nShell Baie-St-Paul et Clermont\n\nL’organisme La Kerm
 ess\n\nVille de Baie-Saint-Paul (15 rue Forget)
DTSTART:20240913T230000Z
DTEND:20240914T013000Z
GEO:+47.440254;-70.508804
LOCATION:Aréna Luc-et-Marie-Claude
ORGANIZER:
SEQUENCE:1
SUMMARY:Match Saguenéens de Chicoutimi vs Remparts de Québec
TRANSP:OPAQUE
URL:https://www.baiesaintpaulguide.com/component/icagenda/match-sagueneens-
 de-chicoutimi-vs-remparts-de-quebec.html?Itemid=103
END:VEVENT
END:VCALENDAR
