BEGIN:VCALENDAR
VERSION:2.0
PRODID:-//Baie-Saint-Paul Guide//NONSGML kigkonsult.se iCalcreator 2.30.10/
 /
CALSCALE:GREGORIAN
METHOD:PUBLISH
UID:a260914c-0c5b-498a-9f99-5d6579929f47
X-WR-CALNAME:iCagenda
X-WR-CALDESC:Event Management Extension for Joomla!
X-WR-RELCALID:3E26604A-50F4-4449-8B3E-E4F4932D05B5
X-WR-TIMEZONE:America/Toronto
BEGIN:VTIMEZONE
TZID:America/Toronto
BEGIN:STANDARD
TZNAME:EST
DTSTART:20231105T020000
TZOFFSETFROM:-0400
TZOFFSETTO:-0500
RDATE:20241103T020000
RDATE:20251102T020000
END:STANDARD
BEGIN:DAYLIGHT
TZNAME:EDT
DTSTART:20240310T020000
TZOFFSETFROM:-0500
TZOFFSETTO:-0400
RDATE:20250309T020000
END:DAYLIGHT
END:VTIMEZONE
BEGIN:VEVENT
UID:7c349fa0-f7d0-4a06-bcc8-29a333aaada1
DTSTAMP:20260423T095637Z
CATEGORIES:Marché Public
CLASS:PUBLIC
DESCRIPTION;ALTREP="CID:<FFFF__=0ABBE548DFE235B58f9e8a93d@coffeebean.com>":
 Le Marché Public de Baie-Saint-Paul vous invite à vous plonger dans l'esse
 nce vibrante de Charlevoix chaque dimanche tout au long de la saison estiv
 ale. Situé à côté de la Maison Mère\, ce marché local animé rassemble une 
 multitude de producteurs et d'artisans talentueux\, créant un véritable jo
 yau de Charlevoix. Avec pour mission de promouvoir l'achat local\, le Marc
 hé Public rassemble plus de 30 producteurs et artisans passionnés qui vous
  accueillent dans une atmosphère chaleureuse et authentique. Ici\, la prod
 uction agricole et la transformation alimentaire sont à l'honneur\, vous p
 ermettant de déguster des produits frais et locaux d'une qualité exception
 nelle.\nLe marché est un trésor qui n'attend qu'à être découvert. En plus 
 des producteurs\, vous trouverez des artisans talentueux prêts à partager 
 leurs créations uniques. Chaque stand est une invitation à s'émerveiller e
 t à explorer. L'atmosphère qui règne au Marché Public de Baie-Saint-Paul r
 eflète la région : conviviale\, animée et familiale. C'est un rassemblemen
 t idéal pour la communauté locale pour faire ses achats sous le soleil et 
 pour les touristes désireux de ramener un morceau de Charlevoix chez eux. 
 De juin à octobre\, chaque dimanche\, venez vous plonger dans l'atmosphère
  rurale de ce marché public.
DTSTART:20240721T140000Z
DTEND:20240721T190000Z
GEO:+47.438141;-70.506378
LOCATION:Maison Mere
ORGANIZER:
SEQUENCE:1
SUMMARY:Marché Public de Baie-St-Paul
TRANSP:OPAQUE
URL:https://www.baiesaintpaulguide.com/component/icagenda/marche-public-de-
 baie-st-paul/2024-07-21-10-00.html?Itemid=103
END:VEVENT
END:VCALENDAR
