BEGIN:VCALENDAR
VERSION:2.0
PRODID:-//Baie-Saint-Paul Guide//NONSGML kigkonsult.se iCalcreator 2.30.10/
 /
CALSCALE:GREGORIAN
METHOD:PUBLISH
UID:6372b36e-34af-4011-b07d-5334a7f183a3
X-WR-CALNAME:iCagenda
X-WR-CALDESC:Event Management Extension for Joomla!
X-WR-RELCALID:3E26604A-50F4-4449-8B3E-E4F4932D05B5
X-WR-TIMEZONE:America/Toronto
BEGIN:VTIMEZONE
TZID:America/Toronto
BEGIN:STANDARD
TZNAME:EST
DTSTART:20241103T020000
TZOFFSETFROM:-0400
TZOFFSETTO:-0500
RDATE:20251102T020000
END:STANDARD
BEGIN:DAYLIGHT
TZNAME:EDT
DTSTART:20240310T020000
TZOFFSETFROM:-0500
TZOFFSETTO:-0400
RDATE:20250309T020000
RDATE:20260308T020000
END:DAYLIGHT
END:VTIMEZONE
BEGIN:VEVENT
UID:64058f28-3e55-45d6-a574-a9296ddd4fe4
DTSTAMP:20260423T012135Z
CATEGORIES:Marché de Noël de Baie-Saint-Paul
CLASS:PUBLIC
DESCRIPTION;ALTREP="CID:<FFFF__=0ABBE548DFE235B58f9e8a93d@coffeebean.com>":
 Du 29 novembre au 1er décembre et du 6 au 8 décembre\, on vous donne rende
 z-vous au Marché de Noël de Baie-Saint-Paul pour découvrir plus de 50 expo
 sants issus des métiers d’art\, de l’artisanat\, de la culture\, de l’agro
 alimentaire et bien plus.\nEn famille ou entre amis\, venez faire le plein
  de cadeaux et produits locaux dans une ambiance rassembleuse saupoudrée d
 e magie des fêtes! Visitez le Village des Exposants dans leur cabane dans 
 une ambiance traditionnelle charlevoisienne ou rendez-vous dans le Village
  intérieur pour découvrir des exposants dans une ambiance familiale. Spect
 acle de musique\, de danse et conte sauront agrémenter votre expérience au
  Marché de Noël de Baie-Saint-Paul !
DTSTART:20241208T160000Z
DTEND:20241208T210000Z
GEO:+47.440605;-70.506195
LOCATION:Dans le stationnement de l’église et Carrefour Culturel Paul-Médér
 ic
ORGANIZER:
SEQUENCE:1
SUMMARY:Marché de Noël de Baie-Saint-Paul
TRANSP:OPAQUE
URL:https://www.baiesaintpaulguide.com/component/icagenda/marche-de-noel-de
 -baie-saint-paul-6.html?Itemid=103
END:VEVENT
END:VCALENDAR
