BEGIN:VCALENDAR
VERSION:2.0
PRODID:-//Baie-Saint-Paul Guide//NONSGML kigkonsult.se iCalcreator 2.30.10/
 /
CALSCALE:GREGORIAN
METHOD:PUBLISH
UID:f59d0499-acad-4359-9978-dbcb860f505c
X-WR-CALNAME:iCagenda
X-WR-CALDESC:Event Management Extension for Joomla!
X-WR-RELCALID:3E26604A-50F4-4449-8B3E-E4F4932D05B5
X-WR-TIMEZONE:America/Toronto
BEGIN:VTIMEZONE
TZID:America/Toronto
BEGIN:STANDARD
TZNAME:EST
DTSTART:20241103T020000
TZOFFSETFROM:-0400
TZOFFSETTO:-0500
RDATE:20251102T020000
END:STANDARD
BEGIN:DAYLIGHT
TZNAME:EDT
DTSTART:20240310T020000
TZOFFSETFROM:-0500
TZOFFSETTO:-0400
RDATE:20250309T020000
RDATE:20260308T020000
END:DAYLIGHT
END:VTIMEZONE
BEGIN:VEVENT
UID:2fa57dba-e5cd-4ecc-95bd-e80e504d6d2e
DTSTAMP:20260422T214939Z
CATEGORIES:Bistro des Balcons
CLASS:PUBLIC
DESCRIPTION;ALTREP="CID:<FFFF__=0ABBE548DFE235B58f9e8a93d@coffeebean.com>":
 Bistro ouvert dès 17h00Début de la performance à 20h00\nCe spectacle a lie
 u dans le cadre de la Saison du Cabaret Festif!\nLUMIÈRE\, c’est l’incarna
 tion libre d’une illumination musicale aux contours glam rock. À la fois p
 étillante\, spectaculaire et sensible\, la proposition s’affranchit des te
 ndances et défie avec éclat les lois de la nostalgie.\nMais au-delà même d
 e la musique\, LUMIÈRE\, c’est le personnage et projet solo d'Étienne Côté
  (Canailles\, Bon Enfant). En arborant les habits colorés et étincelants d
 e son alter ego\, le chanteur et multi-instrumentiste déploie avec grandil
 oquence son amour pour la pop et le rock des années 1960 et 1970\, deux dé
 cennies phares et fastes\, qui ont façonné et définit la musique de notre 
 époque.\nParu en 2021\, le premier album de l'artiste montréalais\, A.M.I.
 E.S.A.M.O.U.R\, est une œuvre conceptuelle au croisement du rock\, de la c
 hanson folk et de la pop psychédélique. L’album\, acclamé par la critique\
 , lui a permis de croiser la route de Pierre Lapointe\, pour qui il a assu
 ré plusieurs premières parties. Et c’est grâce à cette expérience avec Lap
 ointe que LUMIÈRE a eu la chance d’ouvrir pour la popstar française Clara 
 Luciani durant sa spectaculaire tournée des Zénith\, en France\, à l’autom
 ne 2022.\nBillets : 18$https://lepointdevente.com/billets/adb250221001/
DTSTART:20250222T010000Z
DTEND:20250222T023000Z
GEO:+47.438202;-70.505577
LOCATION:Auberge & Bistro des Balcons
ORGANIZER:
SEQUENCE:1
SUMMARY:Lumiére
TRANSP:OPAQUE
URL:https://www.baiesaintpaulguide.com/component/icagenda/lumiere.html?Item
 id=103
END:VEVENT
END:VCALENDAR
