BEGIN:VCALENDAR
VERSION:2.0
PRODID:-//Baie-Saint-Paul Guide//NONSGML kigkonsult.se iCalcreator 2.30.10/
 /
CALSCALE:GREGORIAN
METHOD:PUBLISH
UID:d6a0cc78-449a-428c-91b7-1b33a822e649
X-WR-CALNAME:iCagenda
X-WR-CALDESC:Event Management Extension for Joomla!
X-WR-RELCALID:3E26604A-50F4-4449-8B3E-E4F4932D05B5
X-WR-TIMEZONE:America/Toronto
BEGIN:VTIMEZONE
TZID:America/Toronto
BEGIN:STANDARD
TZNAME:EST
DTSTART:20231105T020000
TZOFFSETFROM:-0400
TZOFFSETTO:-0500
RDATE:20241103T020000
RDATE:20251102T020000
END:STANDARD
BEGIN:DAYLIGHT
TZNAME:EDT
DTSTART:20240310T020000
TZOFFSETFROM:-0500
TZOFFSETTO:-0400
RDATE:20250309T020000
END:DAYLIGHT
END:VTIMEZONE
BEGIN:VEVENT
UID:e4d440cd-d48f-49e7-a53f-fab7a0cfeb98
DTSTAMP:20260423T093515Z
CATEGORIES:Le Festif!
CLASS:PUBLIC
DESCRIPTION;ALTREP="CID:<FFFF__=0ABBE548DFE235B58f9e8a93d@coffeebean.com>":
 \n\n\n&nbsp\;\n\n\n\n\n\n\n\n\n\nNe manquez pas&nbsp\;Loud Lary Ajust au F
 estif! de Baie-Saint-Paul sur la Scène Hydro-Québec. Ce trio incontournabl
 e de la scène hip-hop québécoise\, composé de Loud\, Lary Kidd\, et Ajust\
 , est célèbre pour ses paroles percutantes\, ses beats innovants\, et son 
 style distinctif.\nDepuis leurs débuts\, Loud Lary Ajust ont révolutionné 
 le rap francophone avec des albums tels que Gullywood et Ondulé. Leurs per
 formances live sont une véritable explosion d'énergie et de créativité\, c
 aptivant les foules avec leur présence scénique dynamique.\nCe concert exc
 eptionnel inclut également l'accès à 23 h 30 pour une performance de Origi
 nal Gros Bonnet\, garantissant une soirée complète de musique et de festiv
 ités.\nCe spectacle est complet !&nbsp\;\n\n\n\n\n\n
DTSTART:20240721T044500Z
DTEND:20240721T060000Z
GEO:+47.440205;-70.505501
LOCATION:Scène Hydro-Québec
ORGANIZER:
SEQUENCE:1
SUMMARY:Loud Lary Ajust - Le Festif!
TRANSP:OPAQUE
URL:https://www.baiesaintpaulguide.com/component/icagenda/loud-lary-ajust-l
 e-festif.html?Itemid=103
END:VEVENT
END:VCALENDAR
