BEGIN:VCALENDAR
VERSION:2.0
PRODID:-//Baie-Saint-Paul Guide//NONSGML kigkonsult.se iCalcreator 2.30.10/
 /
CALSCALE:GREGORIAN
METHOD:PUBLISH
UID:5334ee82-c029-4345-a735-16e42c2718cf
X-WR-CALNAME:iCagenda
X-WR-CALDESC:Event Management Extension for Joomla!
X-WR-RELCALID:3E26604A-50F4-4449-8B3E-E4F4932D05B5
X-WR-TIMEZONE:America/Toronto
BEGIN:VTIMEZONE
TZID:America/Toronto
BEGIN:STANDARD
TZNAME:EST
DTSTART:20251102T020000
TZOFFSETFROM:-0400
TZOFFSETTO:-0500
RDATE:20261101T020000
END:STANDARD
BEGIN:DAYLIGHT
TZNAME:EDT
DTSTART:20250309T020000
TZOFFSETFROM:-0500
TZOFFSETTO:-0400
RDATE:20260308T020000
RDATE:20270314T020000
END:DAYLIGHT
END:VTIMEZONE
BEGIN:VEVENT
UID:18ddd31e-f2cb-4676-83ef-a05287dae5fb
DTSTAMP:20260420T022004Z
CATEGORIES:Visite guidée
CLASS:PUBLIC
DESCRIPTION;ALTREP="CID:<FFFF__=0ABBE548DFE235B58f9e8a93d@coffeebean.com>":
 Accompagné.e.s d’un.e naturaliste de GUEPE\, partez en randonnée pour expl
 orer les conifères qui façonnent le paysage de Charlevoix et comprendre le
 urs étonnantes adaptations à l’hiver. En chemin\, apprenez à reconnaître l
 es principales espèces\, observez les traces de la faune et découvrez comm
 ent les animaux s’organisent pour survivre au froid. Grâce à des artéfacts
  et des activités d’observation\, vous serez invité.e.s à toucher\, compar
 er et expérimenter la forêt autrement. Une activité accessible et enrichis
 sante pour vivre la nature hivernale de Charlevoix\, éveiller ses sens et 
 mieux comprendre la vie qui continue sous la neige.\nCette activité s’adre
 sse à un public varié (familles\, curieux de nature et passionné.e.s d’obs
 ervation).\n \nLIEU DE RENCONTRE Pavillon du Saint-Laurent et boisé du Qua
 i \, 212\, rue Sainte-Anne\, Baie-Saint-Paul\, G3Z 1P7.\n \nCONDITIONS GÉN
 ÉRALES Cette activité s'adresse à des participants de 6 ans et plus. Les e
 nfants doivent être accompagnés de leur parent.\n \nINSCRIPTION ET PAIEMEN
 T Réservation requise : https://nature.guepe.qc.ca/event?tags=%5B25%5DPaie
 ment en ligne uniquement.\n \nÀ SAVOIR Pour une activité agréable\, habill
 ez-vous selon la météo.Certains parcs sont grands et comptent plusieurs en
 trées. Assurez-vous de vous présenter au lieu de rencontre indiqué ci-dess
 us.
DTSTART:20260221T140000Z
DTEND:20260221T160000Z
GEO:+47.429043;-70.492622
LOCATION:Pavillon du Saint-Laurent et boisé du Quai
ORGANIZER:
SEQUENCE:1
SUMMARY:L’hiver dans Charlevoix
TRANSP:OPAQUE
URL:https://www.baiesaintpaulguide.com/component/icagenda/lhiver-dans-charl
 evoix.html?Itemid=103
END:VEVENT
END:VCALENDAR
