BEGIN:VCALENDAR
VERSION:2.0
PRODID:-//Baie-Saint-Paul Guide//NONSGML kigkonsult.se iCalcreator 2.30.10/
 /
CALSCALE:GREGORIAN
METHOD:PUBLISH
UID:b52bffc7-da4e-4d05-b42b-35f4224db44e
X-WR-CALNAME:iCagenda
X-WR-CALDESC:Event Management Extension for Joomla!
X-WR-RELCALID:3E26604A-50F4-4449-8B3E-E4F4932D05B5
X-WR-TIMEZONE:America/Toronto
BEGIN:VTIMEZONE
TZID:America/Toronto
BEGIN:STANDARD
TZNAME:EST
DTSTART:20231105T020000
TZOFFSETFROM:-0400
TZOFFSETTO:-0500
RDATE:20241103T020000
RDATE:20251102T020000
END:STANDARD
BEGIN:DAYLIGHT
TZNAME:EDT
DTSTART:20240310T020000
TZOFFSETFROM:-0500
TZOFFSETTO:-0400
RDATE:20250309T020000
END:DAYLIGHT
END:VTIMEZONE
BEGIN:VEVENT
UID:8d361906-35ed-4838-9702-ad660ab1769b
DTSTAMP:20260423T093019Z
CATEGORIES:Animation Baie-Saint-Paul
CLASS:PUBLIC
DESCRIPTION;ALTREP="CID:<FFFF__=0ABBE548DFE235B58f9e8a93d@coffeebean.com>":
 Récapitulatif de l'événement:&nbsp\;https://youtu.be/R-RPqvVxvvI\n&nbsp\;
 \nLes Vitaminés ACROBATIE | ÉQUILIBRE | JONGLERIE Duo d’acrobates comiques
 \, Les Vitaminés éblouissent les publics de tous âges avec leurs prouesses
  techniques hors du commun. Parodie de danse moderne avec ballons suisses\
 , combat de boxe clownesque\, numéro de trapèze ou main à main étonnant Et
  le meilleur de tout\, le spectacle est gratuit !
DTSTART:20240705T223000Z
DTEND:20240705T233000Z
GEO:+47.44038;-70.506477
LOCATION:Place de l'Église
ORGANIZER:
SEQUENCE:1
SUMMARY:Les vitaminés - cirque
TRANSP:OPAQUE
URL:https://www.baiesaintpaulguide.com/component/icagenda/les-vitamines-cir
 que.html?Itemid=103
END:VEVENT
END:VCALENDAR
