BEGIN:VCALENDAR
VERSION:2.0
PRODID:-//Baie-Saint-Paul Guide//NONSGML kigkonsult.se iCalcreator 2.30.10/
 /
CALSCALE:GREGORIAN
METHOD:PUBLISH
UID:2502ddff-1405-4d2a-8e7b-6ce7673c2fab
X-WR-CALNAME:iCagenda
X-WR-CALDESC:Event Management Extension for Joomla!
X-WR-RELCALID:3E26604A-50F4-4449-8B3E-E4F4932D05B5
X-WR-TIMEZONE:America/Toronto
BEGIN:VTIMEZONE
TZID:America/Toronto
BEGIN:STANDARD
TZNAME:EST
DTSTART:20231105T020000
TZOFFSETFROM:-0400
TZOFFSETTO:-0500
RDATE:20241103T020000
RDATE:20251102T020000
END:STANDARD
BEGIN:DAYLIGHT
TZNAME:EDT
DTSTART:20240310T020000
TZOFFSETFROM:-0500
TZOFFSETTO:-0400
RDATE:20250309T020000
END:DAYLIGHT
END:VTIMEZONE
BEGIN:VEVENT
UID:607d1361-51ae-4ae2-ae85-4ef67f44d6b8
DTSTAMP:20260423T093611Z
CATEGORIES:Animation Baie-Saint-Paul
CLASS:PUBLIC
DESCRIPTION;ALTREP="CID:<FFFF__=0ABBE548DFE235B58f9e8a93d@coffeebean.com>":
 Les Sabots du Nord est un groupe de musique country enraciné à Baie-Saint-
 Paul. Leurs chansons captivent l'esprit du terroir québécois\, mêlant les 
 sons authentiques du country avec l'âme vibrante de la région.\nConcert gr
 atuit devant l'église.
DTSTART:20240712T233000Z
DTEND:20240713T010000Z
GEO:+47.441021;-70.506462
LOCATION:Place de l'Église
ORGANIZER:
SEQUENCE:1
SUMMARY:Les Sabots du Nord - musique
TRANSP:OPAQUE
URL:https://www.baiesaintpaulguide.com/component/icagenda/les-sabots-du-nor
 d-musique.html?Itemid=103
END:VEVENT
END:VCALENDAR
