BEGIN:VCALENDAR
VERSION:2.0
PRODID:-//Baie-Saint-Paul Guide//NONSGML kigkonsult.se iCalcreator 2.30.10/
 /
CALSCALE:GREGORIAN
METHOD:PUBLISH
UID:6ec04aa1-09d4-46aa-9a6a-d55d0c22a0ff
X-WR-CALNAME:iCagenda
X-WR-CALDESC:Event Management Extension for Joomla!
X-WR-RELCALID:3E26604A-50F4-4449-8B3E-E4F4932D05B5
X-WR-TIMEZONE:America/Toronto
BEGIN:VTIMEZONE
TZID:America/Toronto
BEGIN:STANDARD
TZNAME:EST
DTSTART:20231105T020000
TZOFFSETFROM:-0400
TZOFFSETTO:-0500
RDATE:20241103T020000
RDATE:20251102T020000
END:STANDARD
BEGIN:DAYLIGHT
TZNAME:EDT
DTSTART:20240310T020000
TZOFFSETFROM:-0500
TZOFFSETTO:-0400
RDATE:20250309T020000
RDATE:20260308T020000
END:DAYLIGHT
END:VTIMEZONE
BEGIN:VEVENT
UID:5878d06f-9f5f-4932-8009-e083a21ec197
DTSTAMP:20260423T063236Z
CATEGORIES:Bistro des Balcons
CLASS:PUBLIC
DESCRIPTION;ALTREP="CID:<FFFF__=0ABBE548DFE235B58f9e8a93d@coffeebean.com>":
 Prêt(e)s pour embarquer dans un voyage spatial hors du temps ? \nNous avon
 s l'immense privilège d'accueillir Les Moontunes pour lancer la programmat
 ion d'automne au Bistro \nOn vous promet un spectacle à couper le souffle 
 avec 7 musiciens exceptionnels sur la scène complètement transportés par l
 a musique.\nVous les avez manqué au FEQ cet été ? C'est l'occasion rêvée d
 e les revoir en toute proximité &amp\; avec tout autant d'intensité !\nLes
  Moontunes est un groupe heavy soul acadien singulier et authentique qui s
 'est démarqué en devenant l'un des groupes incontournables dans l'Est cana
 dien et continue d’atteindre d'autres galaxies avec ses paysages sonores c
 élestes. Les fans de soul\, jazz et rock seront captivés par cette formati
 on qui mêle des grooves accrocheurs à des envolées rock interstellaires po
 ur créer leur style unique. \n \nBilletterie à 18 $https://lepointdevente.
 com/billets/adb240907001\nInfo + bio  https://www.bonsound.com/fr/artiste/
 les-moontunes/\n \nC'est vraiment un spectacle à ne pas manquer!
DTSTART:20240908T000000Z
DTEND:20240908T020000Z
GEO:+47.438202;-70.505577
LOCATION:Bistro des Balcons
ORGANIZER:
SEQUENCE:1
SUMMARY:Les Moontunes au Bistro des Balcons
TRANSP:OPAQUE
URL:https://www.baiesaintpaulguide.com/component/icagenda/les-moontunes-au-
 bistro-des-balcons.html?Itemid=103
END:VEVENT
END:VCALENDAR
