BEGIN:VCALENDAR
VERSION:2.0
PRODID:-//Baie-Saint-Paul Guide//NONSGML kigkonsult.se iCalcreator 2.30.10/
 /
CALSCALE:GREGORIAN
METHOD:PUBLISH
UID:430d50f3-c605-4a2b-b9ec-1720d4882dce
X-WR-CALNAME:iCagenda
X-WR-CALDESC:Event Management Extension for Joomla!
X-WR-RELCALID:3E26604A-50F4-4449-8B3E-E4F4932D05B5
X-WR-TIMEZONE:America/Toronto
BEGIN:VTIMEZONE
TZID:America/Toronto
BEGIN:STANDARD
TZNAME:EST
DTSTART:20231105T020000
TZOFFSETFROM:-0400
TZOFFSETTO:-0500
RDATE:20241103T020000
RDATE:20251102T020000
END:STANDARD
BEGIN:DAYLIGHT
TZNAME:EDT
DTSTART:20240310T020000
TZOFFSETFROM:-0500
TZOFFSETTO:-0400
RDATE:20250309T020000
RDATE:20260308T020000
END:DAYLIGHT
END:VTIMEZONE
BEGIN:VEVENT
UID:d7b4f8d2-8623-4905-99f4-1cb92bf9948b
DTSTAMP:20260423T063056Z
CATEGORIES:Bistro des Balcons
CLASS:PUBLIC
DESCRIPTION;ALTREP="CID:<FFFF__=0ABBE548DFE235B58f9e8a93d@coffeebean.com>":
 La tradition des Jeudis 5 à 7 se maintient\, et ce\, jusqu'à nouvel ordre.
  \nNe vous en faites pas\, petites âmes dansantes\, nous serons toujours l
 à pour vous faire voguer les jeudis. Juste à temps pour l'apéro et les con
 fessions amicales \nCette semaine aux platines : DJ BENDUDE \nÀ jeudi !
DTSTART:20240926T210000Z
DTEND:20240926T230000Z
GEO:+47.438202;-70.505577
LOCATION:Auberge & Bistro des Balcons
ORGANIZER:
SEQUENCE:1
SUMMARY:Les Jeudis 5 à 7 - DJ BenDude
TRANSP:OPAQUE
URL:https://www.baiesaintpaulguide.com/component/icagenda/les-jeudis-5-a-7-
 dj-bendude.html?Itemid=103
END:VEVENT
END:VCALENDAR
