BEGIN:VCALENDAR
VERSION:2.0
PRODID:-//Baie-Saint-Paul Guide//NONSGML kigkonsult.se iCalcreator 2.30.10/
 /
CALSCALE:GREGORIAN
METHOD:PUBLISH
UID:7a564c3c-71ef-4300-91ae-33e20d9d2e54
X-WR-CALNAME:iCagenda
X-WR-CALDESC:Event Management Extension for Joomla!
X-WR-RELCALID:3E26604A-50F4-4449-8B3E-E4F4932D05B5
X-WR-TIMEZONE:America/Toronto
BEGIN:VTIMEZONE
TZID:America/Toronto
BEGIN:STANDARD
TZNAME:EST
DTSTART:20251102T020000
TZOFFSETFROM:-0400
TZOFFSETTO:-0500
RDATE:20261101T020000
END:STANDARD
BEGIN:DAYLIGHT
TZNAME:EDT
DTSTART:20260308T020000
TZOFFSETFROM:-0500
TZOFFSETTO:-0400
RDATE:20270314T020000
END:DAYLIGHT
END:VTIMEZONE
BEGIN:VEVENT
UID:ccfd560d-a8e1-431a-bf8b-9d8e875c9beb
DTSTAMP:20260420T004549Z
CATEGORIES:Lecture
CLASS:PUBLIC
DESCRIPTION;ALTREP="CID:<FFFF__=0ABBE548DFE235B58f9e8a93d@coffeebean.com>":
 ACTIVITÉ DE LECTURE ANIMÉEPIRATES DU FLEUVE ST-LAURENT ET D’AILLEURSINSCRI
 PTION REQUISE
DTSTART:20260329T180000Z
DTEND:20260329T190000Z
GEO:+47.440632;-70.50795
LOCATION:Bibliothèque René-Richard (Salle Pierre-Perrault)
ORGANIZER:
SEQUENCE:1
SUMMARY:Lecture Animée : Pirates du fleuve St-Laurent et d’ailleurs
TRANSP:OPAQUE
URL:https://www.baiesaintpaulguide.com/component/icagenda/lecture-animee-pi
 rates-du-fleuve-st-laurent-et-dailleurs.html?Itemid=103
END:VEVENT
END:VCALENDAR
