BEGIN:VCALENDAR
VERSION:2.0
PRODID:-//Baie-Saint-Paul Guide//NONSGML kigkonsult.se iCalcreator 2.30.10/
 /
CALSCALE:GREGORIAN
METHOD:PUBLISH
UID:b5367f99-b771-4e46-9597-c61af8fd1700
X-WR-CALNAME:iCagenda
X-WR-CALDESC:Event Management Extension for Joomla!
X-WR-RELCALID:3E26604A-50F4-4449-8B3E-E4F4932D05B5
X-WR-TIMEZONE:America/Toronto
BEGIN:VTIMEZONE
TZID:America/Toronto
BEGIN:STANDARD
TZNAME:EST
DTSTART:20251102T020000
TZOFFSETFROM:-0400
TZOFFSETTO:-0500
RDATE:20261101T020000
END:STANDARD
BEGIN:DAYLIGHT
TZNAME:EDT
DTSTART:20260308T020000
TZOFFSETFROM:-0500
TZOFFSETTO:-0400
RDATE:20270314T020000
END:DAYLIGHT
END:VTIMEZONE
BEGIN:VEVENT
UID:8580601b-a0d2-40ca-9c43-1df52f615cb0
DTSTAMP:20260419T225836Z
CATEGORIES:Spectacle
CLASS:PUBLIC
DESCRIPTION;ALTREP="CID:<FFFF__=0ABBE548DFE235B58f9e8a93d@coffeebean.com>":
 La troupe de théâtre Dell’Arte de Baie-Saint-Paul présenteLa BolducAdaptat
 ion et mise en scène : Lyne Dufourhttps://www.facebook.com/Dellartebsp
DTSTART:20260417T000000Z
DTEND:20260417T013000Z
GEO:+47.439541;-70.514717
LOCATION:Centre éducatif Saint-Aubin
ORGANIZER:
SEQUENCE:1
SUMMARY:La Bolduc
TRANSP:OPAQUE
URL:https://www.baiesaintpaulguide.com/component/icagenda/la-bolduc-4.html?
 Itemid=103
END:VEVENT
END:VCALENDAR
