BEGIN:VCALENDAR
VERSION:2.0
PRODID:-//Baie-Saint-Paul Guide//NONSGML kigkonsult.se iCalcreator 2.30.10/
 /
CALSCALE:GREGORIAN
METHOD:PUBLISH
UID:1cfeaeba-8436-45f5-bdba-5c5c0a89328a
X-WR-CALNAME:iCagenda
X-WR-CALDESC:Event Management Extension for Joomla!
X-WR-RELCALID:3E26604A-50F4-4449-8B3E-E4F4932D05B5
X-WR-TIMEZONE:America/Toronto
BEGIN:VTIMEZONE
TZID:America/Toronto
BEGIN:STANDARD
TZNAME:EST
DTSTART:20231105T020000
TZOFFSETFROM:-0400
TZOFFSETTO:-0500
RDATE:20241103T020000
RDATE:20251102T020000
END:STANDARD
BEGIN:DAYLIGHT
TZNAME:EDT
DTSTART:20240310T020000
TZOFFSETFROM:-0500
TZOFFSETTO:-0400
RDATE:20250309T020000
END:DAYLIGHT
END:VTIMEZONE
BEGIN:VEVENT
UID:45ec15dc-bd11-425a-867b-66ef5ed6d3c5
DTSTAMP:20260423T093315Z
CATEGORIES:Le Festif!
CLASS:PUBLIC
DESCRIPTION;ALTREP="CID:<FFFF__=0ABBE548DFE235B58f9e8a93d@coffeebean.com>":
 Le groupe Karkwa se produira à Place Desjardins lors de l'événement Le Fes
 tif!\, juste avant Half Moon Run. Reconnu pour leur rock alternatif puissa
 nt et poétique\, Karkwa est l'un des groupes les plus influents de la scèn
 e musicale québécoise. Formé en 1998\, le groupe a gagné en notoriété avec
  des albums acclamés comme Les Chemins de verre\, qui leur a valu le prest
 igieux Prix Polaris en 2010\, une première pour un groupe francophone.\nAv
 ec des mélodies envoûtantes et des paroles introspectives\, Karkwa offre u
 ne expérience musicale unique qui résonne profondément avec leur public. L
 eur performance promet d'être un moment fort du festival\, captivant les s
 pectateurs avec une énergie brute et une musicalité exceptionnelle. Ne man
 quez pas cette occasion de voir Karkwa en live et de vous laisser emporter
  par leur univers sonore riche et émouvant.
DTSTART:20240720T000000Z
DTEND:20240720T014500Z
GEO:+47.440018;-70.505325
LOCATION:Place Desjardins
ORGANIZER:
SEQUENCE:1
SUMMARY:Karkwa - Le Festif!
TRANSP:OPAQUE
URL:https://www.baiesaintpaulguide.com/component/icagenda/karkwa-le-festif.
 html?Itemid=103
END:VEVENT
END:VCALENDAR
