BEGIN:VCALENDAR
VERSION:2.0
PRODID:-//Baie-Saint-Paul Guide//NONSGML kigkonsult.se iCalcreator 2.30.10/
 /
CALSCALE:GREGORIAN
METHOD:PUBLISH
UID:772c139e-b9ce-4b0a-b5c4-6dd2815c2df2
X-WR-CALNAME:iCagenda
X-WR-CALDESC:Event Management Extension for Joomla!
X-WR-RELCALID:3E26604A-50F4-4449-8B3E-E4F4932D05B5
X-WR-TIMEZONE:America/Toronto
BEGIN:VTIMEZONE
TZID:America/Toronto
BEGIN:STANDARD
TZNAME:EST
DTSTART:20241103T020000
TZOFFSETFROM:-0400
TZOFFSETTO:-0500
RDATE:20251102T020000
RDATE:20261101T020000
END:STANDARD
BEGIN:DAYLIGHT
TZNAME:EDT
DTSTART:20250309T020000
TZOFFSETFROM:-0500
TZOFFSETTO:-0400
RDATE:20260308T020000
END:DAYLIGHT
END:VTIMEZONE
BEGIN:VEVENT
UID:8e890fb9-0988-40fd-8b99-e8d21acffd26
DTSTAMP:20260422T132007Z
CATEGORIES:Animation Baie-Saint-Paul
CLASS:PUBLIC
DESCRIPTION;ALTREP="CID:<FFFF__=0ABBE548DFE235B58f9e8a93d@coffeebean.com>":
 De son vrai nom\, Maxime Poulin\, expert involontaire dans l’art du malais
 e se démarque par son absence totale de filtre social et sa présence aussi
  désarmante qu’intrigante. L’expérience consiste à maintenir le public dan
 s ce délicieux doute : est-ce un personnage authentique ou un circassien d
 e grand talent en pleine performance ? \nUn subtil mélange d’inconfort et 
 de rires\, parfaitement dosé\, qui culmine lorsque surgissent\, sans qu’on
  les voie venir\, des numéros acrobatiques impressionnants\, exécutés avec
  panache et maîtrise.\nEn une phrase : Cultivateur de malaises… et de bonh
 eur.\nEn trois mots : Malaises — Cirque — Humour
DTSTART:20250725T223000Z
DTEND:20250725T233000Z
GEO:+47.441021;-70.506462
LOCATION:Place de l'Église
ORGANIZER:
SEQUENCE:1
SUMMARY:Jerry Tremblay
TRANSP:OPAQUE
URL:https://www.baiesaintpaulguide.com/component/icagenda/jerry-tremblay.ht
 ml?Itemid=103
END:VEVENT
END:VCALENDAR
