BEGIN:VCALENDAR
VERSION:2.0
PRODID:-//Baie-Saint-Paul Guide//NONSGML kigkonsult.se iCalcreator 2.30.10/
 /
CALSCALE:GREGORIAN
METHOD:PUBLISH
UID:0c3f0678-1b69-4f04-bff3-2fbc64e5b854
X-WR-CALNAME:iCagenda
X-WR-CALDESC:Event Management Extension for Joomla!
X-WR-RELCALID:3E26604A-50F4-4449-8B3E-E4F4932D05B5
X-WR-TIMEZONE:America/Toronto
BEGIN:VTIMEZONE
TZID:America/Toronto
BEGIN:STANDARD
TZNAME:EST
DTSTART:20231105T020000
TZOFFSETFROM:-0400
TZOFFSETTO:-0500
RDATE:20241103T020000
RDATE:20251102T020000
END:STANDARD
BEGIN:DAYLIGHT
TZNAME:EDT
DTSTART:20240310T020000
TZOFFSETFROM:-0500
TZOFFSETTO:-0400
RDATE:20250309T020000
END:DAYLIGHT
END:VTIMEZONE
BEGIN:VEVENT
UID:ed6e2d9e-c284-4fbc-b95b-61b407cf5945
DTSTAMP:20260423T093157Z
CATEGORIES:Le Festif!
CLASS:PUBLIC
DESCRIPTION;ALTREP="CID:<FFFF__=0ABBE548DFE235B58f9e8a93d@coffeebean.com>":
 Rejoignez-nous pour un concert gratuit de Jérôme 50 le samedi 20 juillet à
  14 h 00 sur la Scène MicroBrasserie Charlevoix. Véritable amoureux de la 
 culture québécoise\, Jérôme 50 exprime son affection pour sa province et s
 a ville natale à travers des chansons aux mélodies accrocheuses et aux par
 oles ingénieuses. Entre ses cours de linguistique à l’Université Laval\, i
 l crée des œuvres qui ravivent la flamme de l'identité québécoise et explo
 re des genres variés allant du trad au pop punk.\nAprès le succès de son p
 remier album La hiérarchill et de son projet Le camp de vacances de Jérôme
  49\, Jérôme 50 a conquis les palmarès avec sa chanson « Tokébakicitte ». 
 Son dernier album\, Antigéographiquement\, sorti en novembre 2023\, contin
 ue de charmer ses fans. Ne manquez pas cette occasion de découvrir son uni
 vers unique et son humour contagieux lors de ce concert au Festif!
DTSTART:20240720T180000Z
DTEND:20240720T190000Z
GEO:+47.442947;-70.507362
LOCATION:Scène MicroBrasserie Charlevoix
ORGANIZER:
SEQUENCE:1
SUMMARY:Jérôme 50 - Le Festif!
TRANSP:OPAQUE
URL:https://www.baiesaintpaulguide.com/component/icagenda/jerome-50-le-fest
 if.html?Itemid=103
END:VEVENT
END:VCALENDAR
