BEGIN:VCALENDAR
VERSION:2.0
PRODID:-//Baie-Saint-Paul Guide//NONSGML kigkonsult.se iCalcreator 2.30.10/
 /
CALSCALE:GREGORIAN
METHOD:PUBLISH
UID:ae3c7747-8e79-4812-88e3-a6f76fe475fd
X-WR-CALNAME:iCagenda
X-WR-CALDESC:Event Management Extension for Joomla!
X-WR-RELCALID:3E26604A-50F4-4449-8B3E-E4F4932D05B5
X-WR-TIMEZONE:America/Toronto
BEGIN:VTIMEZONE
TZID:America/Toronto
BEGIN:STANDARD
TZNAME:EST
DTSTART:20231105T020000
TZOFFSETFROM:-0400
TZOFFSETTO:-0500
RDATE:20241103T020000
RDATE:20251102T020000
END:STANDARD
BEGIN:DAYLIGHT
TZNAME:EDT
DTSTART:20240310T020000
TZOFFSETFROM:-0500
TZOFFSETTO:-0400
RDATE:20250309T020000
RDATE:20260308T020000
END:DAYLIGHT
END:VTIMEZONE
BEGIN:VEVENT
UID:f8faef22-a6aa-4612-bc29-68f509ac3a57
DTSTAMP:20260423T045217Z
CATEGORIES:Spectacle
CLASS:PUBLIC
DESCRIPTION;ALTREP="CID:<FFFF__=0ABBE548DFE235B58f9e8a93d@coffeebean.com>":
 \nProchain spectacle organisé par la Kermesse: Jeanick Fournier\n\n\nUne a
 rtiste talentueuse\, qui nous fera vivre une soirée unique\, le 29 octobre
  prochain à l’église de Baie-Saint-Paul!\n\n\nVente de billets en ligne et
  dans nos points de vente habituels!\n\n\nhttps://lepointdevente.com/bille
 ts/jeanick-fournier\n
DTSTART:20241019T233000Z
DTEND:20241020T010000Z
GEO:+47.441021;-70.506462
LOCATION:Église de Baie-Saint-Paul
ORGANIZER:
SEQUENCE:1
SUMMARY:Jeanick Fournier - La Kermesse
TRANSP:OPAQUE
URL:https://www.baiesaintpaulguide.com/component/icagenda/jeanick-fournier-
 la-kermesse.html?Itemid=103
END:VEVENT
END:VCALENDAR
