BEGIN:VCALENDAR
VERSION:2.0
PRODID:-//Baie-Saint-Paul Guide//NONSGML kigkonsult.se iCalcreator 2.30.10/
 /
CALSCALE:GREGORIAN
METHOD:PUBLISH
UID:cd01ef86-69fb-4456-9045-d22a859b3ef8
X-WR-CALNAME:iCagenda
X-WR-CALDESC:Event Management Extension for Joomla!
X-WR-RELCALID:3E26604A-50F4-4449-8B3E-E4F4932D05B5
X-WR-TIMEZONE:America/Toronto
BEGIN:VTIMEZONE
TZID:America/Toronto
BEGIN:STANDARD
TZNAME:EST
DTSTART:20231105T020000
TZOFFSETFROM:-0400
TZOFFSETTO:-0500
RDATE:20241103T020000
RDATE:20251102T020000
END:STANDARD
BEGIN:DAYLIGHT
TZNAME:EDT
DTSTART:20240310T020000
TZOFFSETFROM:-0500
TZOFFSETTO:-0400
RDATE:20250309T020000
END:DAYLIGHT
END:VTIMEZONE
BEGIN:VEVENT
UID:bcf91d54-ed0e-4e81-a770-9865d26fa603
DTSTAMP:20260423T093158Z
CATEGORIES:Le Festif!
CLASS:PUBLIC
DESCRIPTION;ALTREP="CID:<FFFF__=0ABBE548DFE235B58f9e8a93d@coffeebean.com>":
 Rejoignez-nous à la Place Desjardins\, située derrière le musée d'art cont
 emporain de Baie-Saint-Paul\, pour une performance captivante de Half Moon
  Run. Ce groupe acclamé\, basé à Montréal\, est réputé pour ses harmonies 
 complexes\, son multi-instrumentalisme et ses spectacles envoûtants.\nForm
 é en 2009\, Half Moon Run a acquis une reconnaissance internationale avec 
 des albums comme 'Dark Eyes' et 'Sun Leads Me On'. Leur musique mélange ha
 bilement rock indépendant\, folk et éléments électroniques\, créant un son
  unique et immersif. Les performances live du groupe sont célébrées pour l
 eur énergie et leur virtuosité\, en faisant un spectacle incontournable.\n
 Ne manquez pas cette occasion d'apprécier la musique enchanteresse de Half
  Moon Run dans un cadre intime lors du Festif de Baie-Saint-Paul !
DTSTART:20240720T014500Z
DTEND:20240720T030000Z
GEO:+47.43996;-70.505196
LOCATION:Place Desjardins
ORGANIZER:
SEQUENCE:1
SUMMARY:Half Moon Run - Le Festif!
TRANSP:OPAQUE
URL:https://www.baiesaintpaulguide.com/component/icagenda/half-moon-run-le-
 festif.html?Itemid=103
END:VEVENT
END:VCALENDAR
