BEGIN:VCALENDAR
VERSION:2.0
PRODID:-//Baie-Saint-Paul Guide//NONSGML kigkonsult.se iCalcreator 2.30.10/
 /
CALSCALE:GREGORIAN
METHOD:PUBLISH
UID:a01d8c21-ed05-4d56-b58a-0f9c826dd113
X-WR-CALNAME:iCagenda
X-WR-CALDESC:Event Management Extension for Joomla!
X-WR-RELCALID:3E26604A-50F4-4449-8B3E-E4F4932D05B5
X-WR-TIMEZONE:America/Toronto
BEGIN:VTIMEZONE
TZID:America/Toronto
BEGIN:STANDARD
TZNAME:EST
DTSTART:20231105T020000
TZOFFSETFROM:-0400
TZOFFSETTO:-0500
RDATE:20241103T020000
RDATE:20251102T020000
END:STANDARD
BEGIN:DAYLIGHT
TZNAME:EDT
DTSTART:20240310T020000
TZOFFSETFROM:-0500
TZOFFSETTO:-0400
RDATE:20250309T020000
END:DAYLIGHT
END:VTIMEZONE
BEGIN:VEVENT
UID:d52b9367-0841-4b7b-9c56-6c73c78534b9
DTSTAMP:20260423T093351Z
CATEGORIES:Le Festif!
CLASS:PUBLIC
DESCRIPTION;ALTREP="CID:<FFFF__=0ABBE548DFE235B58f9e8a93d@coffeebean.com>":
 Ne manquez pas Galaxie au Festif! de Baie-Saint-Paul à Place Desjardins. C
 e groupe rock québécois\, renommé pour son énergie brute et ses sonorités 
 électrisantes\, promet une performance inoubliable.\nFormé en 2002\, Galax
 ie a su s’imposer sur la scène musicale avec des albums percutants comme S
 uper Lynx Deluxe et Le Soleil et la Mer. Leur musique\, un mélange audacie
 ux de rock psychédélique\, d'électro et de garage rock\, est portée par de
 s rythmes puissants et des mélodies accrocheuses.\nLeurs concerts sont rec
 onnus pour leur intensité et leur capacité à captiver le public. Venez viv
 re cette expérience sonore unique et vibrante lors de leur performance au 
 Festif!.\nRejoignez-nous à Place Desjardins pour une soirée inoubliable av
 ec Galaxie!
DTSTART:20240720T234500Z
DTEND:20240721T013000Z
GEO:+47.440067;-70.505501
LOCATION:Place Desjardins
ORGANIZER:
SEQUENCE:1
SUMMARY:Galaxie - Le Festif!
TRANSP:OPAQUE
URL:https://www.baiesaintpaulguide.com/component/icagenda/galaxie-le-festif
 .html?Itemid=103
END:VEVENT
END:VCALENDAR
