BEGIN:VCALENDAR
VERSION:2.0
PRODID:-//Baie-Saint-Paul Guide//NONSGML kigkonsult.se iCalcreator 2.30.10/
 /
CALSCALE:GREGORIAN
METHOD:PUBLISH
UID:eea8957c-b5df-44bb-b36f-f061f8832506
X-WR-CALNAME:iCagenda
X-WR-CALDESC:Event Management Extension for Joomla!
X-WR-RELCALID:3E26604A-50F4-4449-8B3E-E4F4932D05B5
X-WR-TIMEZONE:America/Toronto
BEGIN:VTIMEZONE
TZID:America/Toronto
BEGIN:STANDARD
TZNAME:EST
DTSTART:20231105T020000
TZOFFSETFROM:-0400
TZOFFSETTO:-0500
RDATE:20241103T020000
RDATE:20251102T020000
END:STANDARD
BEGIN:DAYLIGHT
TZNAME:EDT
DTSTART:20240310T020000
TZOFFSETFROM:-0500
TZOFFSETTO:-0400
RDATE:20250309T020000
END:DAYLIGHT
END:VTIMEZONE
BEGIN:VEVENT
UID:67eb7a93-066a-4fe4-9680-8be337685676
DTSTAMP:20260423T093508Z
CATEGORIES:Le Festif!
CLASS:PUBLIC
DESCRIPTION;ALTREP="CID:<FFFF__=0ABBE548DFE235B58f9e8a93d@coffeebean.com>":
 \n\n\n\nFunkyFalz\, artisan du dancefloor\, fou hashtaggeur et earmatologu
 e\, est bien connu pour enflammer n'importe quelle piste de danse québécoi
 se et l'élever à un niveau supérieur. Il a le talent de combiner ce que le
  public désire avec une touche unique qui rend l'expérience à la fois plai
 sante et mémorable.\n\n\n\n\n\n\n\n\n\n\n&nbsp\;\nFunkyFalz se produira au
  Parvis lors du Festif! de Baie-Saint-Paul\, un concert gratuit pour tous 
 les spectateurs. Avec son talent unique pour mélanger humour et musique\, 
 il garantit une soirée de danse inoubliable. Ne manquez pas cette occasion
  de vivre une performance électrisante et divertissante avec FunkyFalz!\n
 \n\n\n\n\n
DTSTART:20240718T023000Z
DTEND:20240718T041500Z
GEO:+47.439861;-70.506615
LOCATION:Le Parvis ICI Musique
ORGANIZER:
SEQUENCE:1
SUMMARY:FunkyFalz - Le Festif!
TRANSP:OPAQUE
URL:https://www.baiesaintpaulguide.com/component/icagenda/funkyfalz-le-fest
 if.html?Itemid=103
END:VEVENT
END:VCALENDAR
