BEGIN:VCALENDAR
VERSION:2.0
PRODID:-//Baie-Saint-Paul Guide//NONSGML kigkonsult.se iCalcreator 2.30.10/
 /
CALSCALE:GREGORIAN
METHOD:PUBLISH
UID:9193c360-015b-42a0-aa3c-12fe2682b9b1
X-WR-CALNAME:iCagenda
X-WR-CALDESC:Event Management Extension for Joomla!
X-WR-RELCALID:3E26604A-50F4-4449-8B3E-E4F4932D05B5
X-WR-TIMEZONE:America/Toronto
BEGIN:VTIMEZONE
TZID:America/Toronto
BEGIN:STANDARD
TZNAME:EST
DTSTART:20241103T020000
TZOFFSETFROM:-0400
TZOFFSETTO:-0500
RDATE:20251102T020000
END:STANDARD
BEGIN:DAYLIGHT
TZNAME:EDT
DTSTART:20240310T020000
TZOFFSETFROM:-0500
TZOFFSETTO:-0400
RDATE:20250309T020000
RDATE:20260308T020000
END:DAYLIGHT
END:VTIMEZONE
BEGIN:VEVENT
UID:08ab311f-9f00-4fb9-8b07-493fa191df74
DTSTAMP:20260423T011850Z
CATEGORIES:Formation
CLASS:PUBLIC
DESCRIPTION;ALTREP="CID:<FFFF__=0ABBE548DFE235B58f9e8a93d@coffeebean.com>":
 ***Lieu à confirmer\, vous serez contactés.***\n***PLACES LIMITÉES!****Ins
 crivez-vous gratuitement: https://www.zeffy.com/ticketing/formation-du-28-
 novembre-2(ne vous fiez pas aux infos du lien\, c'est bien le 14 décembre 
 )\nL'improvisatrice aguerrie Catherine Bisson (que vous avez pus voir dans
  nos matchs spéciaux avec la LIQ)\, viendra partager son savoir avec les m
 embres de la LIB et tous les curieux intéressés à y participer!L'expérienc
 e en improvisation n'est pas pré-requise!\nÀ quoi s'attendre?Des jeux d'éc
 hauffements en groupeDes jeux d'improvisation en sous-groupe ou grand grou
 peDe belles rencontresLa découvertes des dessous du jeu d'improvisation.\n
 'Coudonc! ça fait beaucoup de jeux ça!' que tu te dis? Bin oui! C'est ça l
 'impro! Un jeu et un sport complet\, à la fois cérébral et physique et Ô c
 ombien thérapeutique!\nLa formation est 100% gratuite pour tous\, grâce à 
 la contribution de la MRC de Charlevoix et du Gouvernement du Québec dans 
 le cadre de l'Entente de développement culturel. Tout cela\, aussi\, grâce
  à l'excellent travail des administrateurs de notre OBNL 'improvisation Ch
 arlevoix'!
DTSTART:20241214T180000Z
DTEND:20241214T230000Z
GEO:00;0
LOCATION:
ORGANIZER:
SEQUENCE:1
SUMMARY:FORMATION avec Catherine Bisson
TRANSP:OPAQUE
URL:https://www.baiesaintpaulguide.com/component/icagenda/formation-avec-ca
 therine-bisson.html?Itemid=103
END:VEVENT
END:VCALENDAR
