BEGIN:VCALENDAR
VERSION:2.0
PRODID:-//Baie-Saint-Paul Guide//NONSGML kigkonsult.se iCalcreator 2.30.10/
 /
CALSCALE:GREGORIAN
METHOD:PUBLISH
UID:9d6b333e-bf3b-4d9d-b9c0-cb59d073be05
X-WR-CALNAME:iCagenda
X-WR-CALDESC:Event Management Extension for Joomla!
X-WR-RELCALID:3E26604A-50F4-4449-8B3E-E4F4932D05B5
X-WR-TIMEZONE:America/Toronto
BEGIN:VTIMEZONE
TZID:America/Toronto
BEGIN:STANDARD
TZNAME:EST
DTSTART:20231105T020000
TZOFFSETFROM:-0400
TZOFFSETTO:-0500
RDATE:20241103T020000
RDATE:20251102T020000
END:STANDARD
BEGIN:DAYLIGHT
TZNAME:EDT
DTSTART:20240310T020000
TZOFFSETFROM:-0500
TZOFFSETTO:-0400
RDATE:20250309T020000
END:DAYLIGHT
END:VTIMEZONE
BEGIN:VEVENT
UID:e0fe942a-a028-4fc8-9c75-a23f8c1b41ef
DTSTAMP:20260423T095444Z
CATEGORIES:Animation Baie-Saint-Paul
CLASS:PUBLIC
DESCRIPTION;ALTREP="CID:<FFFF__=0ABBE548DFE235B58f9e8a93d@coffeebean.com>":
 Récapitulatif de l'événement:&nbsp\;https://youtu.be/R-RPqvVxvvI\nPlongez 
 dans l'univers envoûtant de Forêt Marine\, où rivières et montagnes se rej
 oignent pour créer une expérience folk-pop-progressive unique. Issu des ch
 emins d'écriture de Tadoussac\, de l'atelier de composition de chansons de
  la Maison Plamondon avec Tire le Coyote\, et du Festif! de Baie-Saint-Pau
 l\, Forêt Marine\, également connue sous le nom de l'artiste multidiscipli
 naire Sandie Valiquette\, offre un voyage musical sans pareil.\nAutrefois 
 réalisatrice et saxophoniste dans divers genres musicaux\, Forêt Marine a 
 trouvé sa véritable vocation en tant qu'auteure-compositrice-interprète en
  2021. Ses chansons\, imprégnées des éléments naturels de la région\, prés
 entent des voix captivantes et texturées et célèbrent l'émancipation fémin
 ine. Dans cet événement\, elle vous invite à vous immerger dans son univer
 s musical envoûtant\, où elle supervise chaque aspect de ses productions. 
 Ne manquez pas cette occasion de découvrir ses compositions originales\, e
 mpreintes de souveraineté et de simplicité\, lors d'un concert gratuit où 
 la musique et la nature s'harmonisent pour créer quelque chose de vraiment
  magique.
DTSTART:20240705T233000Z
DTEND:20240706T010000Z
GEO:+47.44038;-70.506477
LOCATION:Place de l'Église
ORGANIZER:
SEQUENCE:1
SUMMARY:Forêt marine - musique
TRANSP:OPAQUE
URL:https://www.baiesaintpaulguide.com/component/icagenda/foret-marine.html
 ?Itemid=103
END:VEVENT
END:VCALENDAR
