BEGIN:VCALENDAR
VERSION:2.0
PRODID:-//Baie-Saint-Paul Guide//NONSGML kigkonsult.se iCalcreator 2.30.10/
 /
CALSCALE:GREGORIAN
METHOD:PUBLISH
UID:38f918da-c7d7-4484-8325-d5cfc1a709f7
X-WR-CALNAME:iCagenda
X-WR-CALDESC:Event Management Extension for Joomla!
X-WR-RELCALID:3E26604A-50F4-4449-8B3E-E4F4932D05B5
X-WR-TIMEZONE:America/Toronto
BEGIN:VTIMEZONE
TZID:America/Toronto
BEGIN:STANDARD
TZNAME:EST
DTSTART:20231105T020000
TZOFFSETFROM:-0400
TZOFFSETTO:-0500
RDATE:20241103T020000
RDATE:20251102T020000
END:STANDARD
BEGIN:DAYLIGHT
TZNAME:EDT
DTSTART:20240310T020000
TZOFFSETFROM:-0500
TZOFFSETTO:-0400
RDATE:20250309T020000
END:DAYLIGHT
END:VTIMEZONE
BEGIN:VEVENT
UID:80d1fa41-55aa-4c72-8938-70956b81deda
DTSTAMP:20260423T093507Z
CATEGORIES:Le Festif!
CLASS:PUBLIC
DESCRIPTION;ALTREP="CID:<FFFF__=0ABBE548DFE235B58f9e8a93d@coffeebean.com>":
 Rejoignez-nous pour un concert gratuit de Fleur de Peau le samedi 20 juill
 et au BBQ CHYZ. Né en janvier 2023\, ce projet synth-pop est composé de Lo
 uis Fernandez\, multi-instrumentiste (guitare\, basse\, clavier\, etc.) et
  d'Élie Dubois-Sénéchal à la voix. Unis par leur amour commun pour l'art e
 t la musique\, ce duo a créé un projet plus grand qu'eux-mêmes.\nLe son de
  Fleur de Peau est mélancolique\, percussif et poétique\, témoignage de ré
 alités Queer et féministes ou d'une approche personnelle et émotionnelle d
 e l'urgence de vivre. Avec des rythmes de batterie réverbérés et des boîte
 s à rythmes robotiques\, leur musique est influencée par les années 80 tou
 t en restant moderne et alternative. Leurs synthétiseurs brillants et leur
 s guitares\, tantôt dynamiques\, tantôt lo-fi et sombres\, créent des arra
 ngements qui mettent en valeur l'essentiel. Ne manquez pas cette expérienc
 e musicale unique au Festif!
DTSTART:20240720T150000Z
DTEND:20240720T160000Z
GEO:+47.443974;-70.508316
LOCATION:BBQ CHYZ
ORGANIZER:
SEQUENCE:1
SUMMARY:Fleur de Peau - Le Festif!
TRANSP:OPAQUE
URL:https://www.baiesaintpaulguide.com/component/icagenda/fleur-de-peau-le-
 festif.html?Itemid=103
END:VEVENT
END:VCALENDAR
