BEGIN:VCALENDAR
VERSION:2.0
PRODID:-//Baie-Saint-Paul Guide//NONSGML kigkonsult.se iCalcreator 2.30.10/
 /
CALSCALE:GREGORIAN
METHOD:PUBLISH
UID:39b29faf-9d81-46e2-8b24-8e757198314c
X-WR-CALNAME:iCagenda
X-WR-CALDESC:Event Management Extension for Joomla!
X-WR-RELCALID:3E26604A-50F4-4449-8B3E-E4F4932D05B5
X-WR-TIMEZONE:America/Toronto
BEGIN:VTIMEZONE
TZID:America/Toronto
BEGIN:STANDARD
TZNAME:EST
DTSTART:20231105T020000
TZOFFSETFROM:-0400
TZOFFSETTO:-0500
RDATE:20241103T020000
RDATE:20251102T020000
END:STANDARD
BEGIN:DAYLIGHT
TZNAME:EDT
DTSTART:20240310T020000
TZOFFSETFROM:-0500
TZOFFSETTO:-0400
RDATE:20250309T020000
RDATE:20260308T020000
END:DAYLIGHT
END:VTIMEZONE
BEGIN:VEVENT
UID:27c6ae84-426d-4636-ad5a-c7c150b3883a
DTSTAMP:20260423T064505Z
CATEGORIES:Fête
CLASS:PUBLIC
DESCRIPTION;ALTREP="CID:<FFFF__=0ABBE548DFE235B58f9e8a93d@coffeebean.com>":
 FIESTA MEXICANA\nPlongez dans l’ambiance festive du Mexique avec une soiré
 e pleine de couleurs\, de saveurs et de rythmes envoûtants. Dégustez de dé
 licieux tacos\, dansez au son de la musique mariachi et laissez-vous trans
 porter par la convivialité de la culture mexicaine !\n&nbsp\;\nBAR SUR PLA
 CE\n\nPRIX SPECTACLE SEULEMENT : 15 $&nbsp\;\nPRIX SPECTACLE DÉGUSTATION: 
 25 $&nbsp\;\n\n&nbsp\;\n\nAchetez des billets en ligne\n
DTSTART:20240915T213000Z
DTEND:20240916T000000Z
GEO:+47.438709;-70.506363
LOCATION:La Grande Salle de Maison Mère
ORGANIZER:
SEQUENCE:1
SUMMARY:Fiesta Mexicana - Spectacle et Dégustation de Nourriture Mexicaine
TRANSP:OPAQUE
URL:https://www.baiesaintpaulguide.com/component/icagenda/fiesta-mexicana-s
 pectacle-et-degustation-de-nourriture-mexicaine.html?Itemid=103
END:VEVENT
END:VCALENDAR
