BEGIN:VCALENDAR
VERSION:2.0
PRODID:-//Baie-Saint-Paul Guide//NONSGML kigkonsult.se iCalcreator 2.30.10/
 /
CALSCALE:GREGORIAN
METHOD:PUBLISH
UID:75399012-c2af-47ab-a291-3e30e0f4560f
X-WR-CALNAME:iCagenda
X-WR-CALDESC:Event Management Extension for Joomla!
X-WR-RELCALID:3E26604A-50F4-4449-8B3E-E4F4932D05B5
X-WR-TIMEZONE:America/Toronto
BEGIN:VTIMEZONE
TZID:America/Toronto
BEGIN:STANDARD
TZNAME:EST
DTSTART:20231105T020000
TZOFFSETFROM:-0400
TZOFFSETTO:-0500
RDATE:20241103T020000
RDATE:20251102T020000
END:STANDARD
BEGIN:DAYLIGHT
TZNAME:EDT
DTSTART:20240310T020000
TZOFFSETFROM:-0500
TZOFFSETTO:-0400
RDATE:20250309T020000
END:DAYLIGHT
END:VTIMEZONE
BEGIN:VEVENT
UID:964f9227-1139-4dc1-85c7-a8833471d68a
DTSTAMP:20260423T093152Z
CATEGORIES:Fête
CLASS:PUBLIC
DESCRIPTION;ALTREP="CID:<FFFF__=0ABBE548DFE235B58f9e8a93d@coffeebean.com>":
 Rejoignez-nous pour la FIESTA de début de saison au St-Pub ! \nFormule 5 à
  7\n \nProfitez de :Musique par DJ RIRI (Alice Riopel)Bouchées de cevicheM
 argarita\nPortez un item/vêtement de la MBC et recevez une surprise spécia
 le !\nNe manquez pas cette soirée festive et conviviale ! Venez célébrer a
 vec nous ! 
DTSTART:20240710T210000Z
DTEND:20240710T230000Z
GEO:+47.442989;-70.507561
LOCATION:Le Saint-Pub - Microbrasserie Charlevoix
ORGANIZER:
SEQUENCE:1
SUMMARY:FIESTA au Saint-Pub!
TRANSP:OPAQUE
URL:https://www.baiesaintpaulguide.com/component/icagenda/fiesta-au-saint-p
 ub.html?Itemid=103
END:VEVENT
END:VCALENDAR
