BEGIN:VCALENDAR
VERSION:2.0
PRODID:-//Baie-Saint-Paul Guide//NONSGML kigkonsult.se iCalcreator 2.30.10/
 /
CALSCALE:GREGORIAN
METHOD:PUBLISH
UID:51b05bec-764f-4f7f-ab38-1394e8f12f06
X-WR-CALNAME:iCagenda
X-WR-CALDESC:Event Management Extension for Joomla!
X-WR-RELCALID:3E26604A-50F4-4449-8B3E-E4F4932D05B5
X-WR-TIMEZONE:America/Toronto
BEGIN:VTIMEZONE
TZID:America/Toronto
BEGIN:STANDARD
TZNAME:EST
DTSTART:20241103T020000
TZOFFSETFROM:-0400
TZOFFSETTO:-0500
RDATE:20251102T020000
END:STANDARD
BEGIN:DAYLIGHT
TZNAME:EDT
DTSTART:20240310T020000
TZOFFSETFROM:-0500
TZOFFSETTO:-0400
RDATE:20250309T020000
RDATE:20260308T020000
END:DAYLIGHT
END:VTIMEZONE
BEGIN:VEVENT
UID:8a12db76-b6b3-4eeb-a4d8-9bb475f7d090
DTSTAMP:20260422T215113Z
CATEGORIES:Festival
CLASS:PUBLIC
DESCRIPTION;ALTREP="CID:<FFFF__=0ABBE548DFE235B58f9e8a93d@coffeebean.com>":
 L'incontournable Festival du film de montagne de Banff est de retour! \n 2
  projections présentées en admission générale \n SAMEDI 22 FÉVRIER 2025 – 
 14H00 SAMEDI 22 FÉVRIER 2025 – 19H00\nCette 49e édition du festival met en
  lumière des courts et moyens métrages créés par des aventuriers audacieux
  au cœur de lieux sauvages et isolés. Que ce soit le vélo\, le ski\, l’esc
 alade\, l’alpinisme\, le kayak et bien d’autres activités sont au centre d
 e réalisations remarquables. Récits captivants\, exploits sportifs et hist
 oires humaines seront au rendez-vous!\nFAQ  banffquebec.ca/faq/\n INFOS PR
 ATIQUES: Durée de la soirée : 3 heures\, entracte et tirage inclus Ouvertu
 re des portes : une heure avant le début de la projection.\nLes films sont
  présentés en version originale sous-titrée en français et sont les mêmes 
 à chacune des représentations.\nwww.banffquebec.caInstagram @BanffQuebec#b
 anffquebec\nPrésenté par Banff &amp\; Lake Louise et Rab\nCrédit photo : F
 rench Alps\, photo par Jordan Manoukian
DTSTART:20250222T190000Z
DTEND:20250223T041500Z
GEO:+47.435905;-70.504669
LOCATION:Hôtel & Spa Le Germain Charlevoix
ORGANIZER:
SEQUENCE:1
SUMMARY:Festival du film de montagne de Banff au Québec
TRANSP:OPAQUE
URL:https://www.baiesaintpaulguide.com/component/icagenda/festival-du-film-
 de-montagne-de-banff-au-quebec.html?Itemid=103
END:VEVENT
END:VCALENDAR
