BEGIN:VCALENDAR
VERSION:2.0
PRODID:-//Baie-Saint-Paul Guide//NONSGML kigkonsult.se iCalcreator 2.30.10/
 /
CALSCALE:GREGORIAN
METHOD:PUBLISH
UID:6c0c1170-70c9-4232-9a98-75f09ba332b1
X-WR-CALNAME:iCagenda
X-WR-CALDESC:Event Management Extension for Joomla!
X-WR-RELCALID:3E26604A-50F4-4449-8B3E-E4F4932D05B5
X-WR-TIMEZONE:America/Toronto
BEGIN:VTIMEZONE
TZID:America/Toronto
BEGIN:STANDARD
TZNAME:EST
DTSTART:20241103T020000
TZOFFSETFROM:-0400
TZOFFSETTO:-0500
RDATE:20251102T020000
END:STANDARD
BEGIN:DAYLIGHT
TZNAME:EDT
DTSTART:20240310T020000
TZOFFSETFROM:-0500
TZOFFSETTO:-0400
RDATE:20250309T020000
RDATE:20260308T020000
END:DAYLIGHT
END:VTIMEZONE
BEGIN:VEVENT
UID:e637b7a5-30eb-4f72-a833-20fe8e64914c
DTSTAMP:20260422T214740Z
CATEGORIES:Festival
CLASS:PUBLIC
DESCRIPTION;ALTREP="CID:<FFFF__=0ABBE548DFE235B58f9e8a93d@coffeebean.com>":
 L'incontournable Festival du film de montagne de Banff est de retour! \n3 
 projections présentées en sièges assignés \n DIMANCHE 9 FÉVRIER 2025 – 14H
 00 DIMANCHE 9 FÉVRIER 2025 – 19H00 LUNDI 10 FÉVRIER 2025 – 19H00\nCette 49
 e édition du festival met en lumière des courts et moyens métrages créés p
 ar des aventuriers audacieux au cœur de lieux sauvages et isolés. Que ce s
 oit le vélo\, le ski\, l’escalade\, l’alpinisme\, le kayak et bien d’autre
 s activités sont au centre de réalisations remarquables. Récits captivants
 \, exploits sportifs et histoires humaines seront au rendez-vous!\nProgram
 mation 2025  À venir fin novembre 2024FAQ  banffquebec.ca/faq/\n INFOS PRA
 TIQUES: Durée de la soirée : 3 heures\, entracte et tirage inclus Ouvertur
 e des portes : une heure avant le début de la projection.\nLes films sont 
 présentés en version originale sous-titrée en français et sont les mêmes à
  chacune des représentations.\nwww.banffquebec.caInstagram @BanffQuebec#ba
 nffquebec\nPrésenté par Banff &amp\; Lake Louise et Rab\nCrédit photo : Fr
 ench Alps\, photo par Jordan Manoukian
DTSTART:20250209T190000Z
DTEND:20250211T041500Z
GEO:+47.435905;-70.504669
LOCATION:Hôtel & Spa Le Germain Charlevoix
ORGANIZER:
SEQUENCE:1
SUMMARY:Festival du film de montagne de Banff au Québec
TRANSP:OPAQUE
URL:https://www.baiesaintpaulguide.com/component/icagenda/festival-du-film-
 de-montagne-de-banff-au-quebec-2.html?Itemid=103
END:VEVENT
END:VCALENDAR
