BEGIN:VCALENDAR
VERSION:2.0
PRODID:-//Baie-Saint-Paul Guide//NONSGML kigkonsult.se iCalcreator 2.30.10/
 /
CALSCALE:GREGORIAN
METHOD:PUBLISH
UID:fc48bba7-ed3a-4d76-b063-f6db083a47a4
X-WR-CALNAME:iCagenda
X-WR-CALDESC:Event Management Extension for Joomla!
X-WR-RELCALID:3E26604A-50F4-4449-8B3E-E4F4932D05B5
X-WR-TIMEZONE:America/Toronto
BEGIN:VTIMEZONE
TZID:America/Toronto
BEGIN:STANDARD
TZNAME:EST
DTSTART:20231105T020000
TZOFFSETFROM:-0400
TZOFFSETTO:-0500
RDATE:20241103T020000
RDATE:20251102T020000
END:STANDARD
BEGIN:DAYLIGHT
TZNAME:EDT
DTSTART:20240310T020000
TZOFFSETFROM:-0500
TZOFFSETTO:-0400
RDATE:20250309T020000
END:DAYLIGHT
END:VTIMEZONE
BEGIN:VEVENT
UID:606bc449-b553-476f-b64e-4cdcc95380e8
DTSTAMP:20260423T080611Z
CATEGORIES:Festival Charlevoix Danse
CLASS:PUBLIC
DESCRIPTION;ALTREP="CID:<FFFF__=0ABBE548DFE235B58f9e8a93d@coffeebean.com>":
 Passionnés par le monde de la danse depuis des décennies\, les organisateu
 rs du Festival Charlevoix Danse cumulent plus de soixante ans d'expérience
  dans le milieu de la danse et du spectacle. Majoritairement développées a
 u Québec\, leurs carrières se sont également déployées à l'international. 
 La création de ce festival à Baie-Saint-Paul représente une occasion uniqu
 e de faire découvrir les arts de la scène en région. Charlevoix\, reconnu 
 pour sa culture et ses artistes\, offre une plateforme idéale pour promouv
 oir cette passion commune pour la danse.\nLe Festival Charlevoix Danse pro
 pose un programme mixte contemporain et néoclassique d'une durée de 60 min
 utes. Rejoignez l'événement le 17 août de 20h à 21h ou le 18 août de 14h à
  15h au 101 Rue Saint-Aubin #200\, Baie-Saint-Paul. Ne manquez pas cette o
 ccasion exceptionnelle de plonger dans l'univers enchanteur de la danse\, 
 où les mouvements contemporains et néoclassiques s'entrelacent pour créer 
 des performances inoubliables.\nACHETEZ VOS BILLETS
DTSTART:20240818T000000Z
DTEND:20240818T010000Z
GEO:+47.439503;-70.514702
LOCATION:Centre éducatif Saint-Aubin
ORGANIZER:
SEQUENCE:1
SUMMARY:Festival Charlevoix Danse
TRANSP:OPAQUE
URL:https://www.baiesaintpaulguide.com/component/icagenda/festival-charlevo
 ix-danse.html?Itemid=103
END:VEVENT
END:VCALENDAR
