BEGIN:VCALENDAR
VERSION:2.0
PRODID:-//Baie-Saint-Paul Guide//NONSGML kigkonsult.se iCalcreator 2.30.10/
 /
CALSCALE:GREGORIAN
METHOD:PUBLISH
UID:d0f42173-0fcb-466c-bcf2-ca59d35fe52e
X-WR-CALNAME:iCagenda
X-WR-CALDESC:Event Management Extension for Joomla!
X-WR-RELCALID:3E26604A-50F4-4449-8B3E-E4F4932D05B5
X-WR-TIMEZONE:America/Toronto
BEGIN:VTIMEZONE
TZID:America/Toronto
BEGIN:STANDARD
TZNAME:EST
DTSTART:20231105T020000
TZOFFSETFROM:-0400
TZOFFSETTO:-0500
RDATE:20241103T020000
RDATE:20251102T020000
END:STANDARD
BEGIN:DAYLIGHT
TZNAME:EDT
DTSTART:20240310T020000
TZOFFSETFROM:-0500
TZOFFSETTO:-0400
RDATE:20250309T020000
END:DAYLIGHT
END:VTIMEZONE
BEGIN:VEVENT
UID:c4383356-e3f8-424f-8cd9-c7381457a1f1
DTSTAMP:20260423T093351Z
CATEGORIES:Le Festif!
CLASS:PUBLIC
DESCRIPTION;ALTREP="CID:<FFFF__=0ABBE548DFE235B58f9e8a93d@coffeebean.com>":
 Rejoignez-nous pour un concert gratuit d'Eydís Evensen le samedi 20 juille
 t à 11 h 30 au Quai Bell. Eydís Evensen\, souvent décrite comme une « révo
 lutionnaire de la musique classique »\, est une pianiste et compositrice i
 slandaise reconnue pour sa capacité à toucher profondément les cœurs avec 
 ses compositions émouvantes. Son dernier album\, The Light\, explore des t
 hèmes de résilience et d'espoir\, inspiré par les crises mondiales et pers
 onnelles qu'elle a traversées. Ce concert promet d'être une expérience émo
 tionnelle inoubliable\, transportant le public à travers des mélodies évoc
 atrices et des performances intenses.\nEydís\, originaire de Blönduós\, a 
 su transformer ses épreuves personnelles en une source d'inspiration music
 ale. Depuis son premier album Bylur en 2021\, elle a captivé des millions 
 d'auditeurs à travers le monde avec ses compositions qui marient délicatem
 ent douleur et espoir. Lors de ce concert\, laissez-vous emporter par les 
 sonorités uniques d'Eydís Evensen\, où chaque note est une invitation à dé
 couvrir la lumière qui survit à travers les ténèbres.
DTSTART:20240720T153000Z
DTEND:20240720T165000Z
GEO:+47.43047;-70.490623
LOCATION:Quai Bell
ORGANIZER:
SEQUENCE:1
SUMMARY:Eydís Evensen - Le Festif!
TRANSP:OPAQUE
URL:https://www.baiesaintpaulguide.com/component/icagenda/eydis-evensen-le-
 festif.html?Itemid=103
END:VEVENT
END:VCALENDAR
