BEGIN:VCALENDAR
VERSION:2.0
PRODID:-//Baie-Saint-Paul Guide//NONSGML kigkonsult.se iCalcreator 2.30.10/
 /
CALSCALE:GREGORIAN
METHOD:PUBLISH
UID:2e3b8b89-7ee3-45cd-9aec-23f77313e3e8
X-WR-CALNAME:iCagenda
X-WR-CALDESC:Event Management Extension for Joomla!
X-WR-RELCALID:3E26604A-50F4-4449-8B3E-E4F4932D05B5
X-WR-TIMEZONE:America/Toronto
BEGIN:VTIMEZONE
TZID:America/Toronto
BEGIN:STANDARD
TZNAME:EST
DTSTART:20231105T020000
TZOFFSETFROM:-0400
TZOFFSETTO:-0500
RDATE:20241103T020000
RDATE:20251102T020000
END:STANDARD
BEGIN:DAYLIGHT
TZNAME:EDT
DTSTART:20240310T020000
TZOFFSETFROM:-0500
TZOFFSETTO:-0400
RDATE:20250309T020000
END:DAYLIGHT
END:VTIMEZONE
BEGIN:VEVENT
UID:6d3e86e0-cb5f-440d-b43f-ec39711e7421
DTSTAMP:20260423T093315Z
CATEGORIES:Le Festif!
CLASS:PUBLIC
DESCRIPTION;ALTREP="CID:<FFFF__=0ABBE548DFE235B58f9e8a93d@coffeebean.com>":
 Ne manquez pas Émile Bilodeau à Le Festif! pour une soirée mémorable à Pla
 ce Desjardins. Originaire de Longueuil\, Québec\, Émile Bilodeau est un au
 teur-compositeur-interprète passionné par la langue française familière et
  les thématiques engageantes qui résonnent auprès de sa génération.\nDès l
 'âge de quinze ans\, Émile Bilodeau découvre la batterie puis la guitare\,
  et compose ses premières chansons à seize ans. Son premier album\, 'Rites
  de passage'\, sorti en 2016 et réalisé par Philippe B\, a marqué le début
  d'une carrière prometteuse. Il s'est distingué aux Francouvertes et au Fe
 stival international de la chanson de Granby\, remportant plusieurs prix q
 ui ont solidifié sa place dans le paysage musical québécois. Son engagemen
 t et son talent lui ont valu d'être nommé révélation musicale de l'année p
 ar Radio-Canada en 2017 et de remporter le prestigieux prix Félix de la ré
 vélation de l'année à l'ADISQ.\nRejoignez-nous pour une soirée envoûtante 
 avec Émile Bilodeau à Le Festif! Billets disponibles sur le site officiel 
 du festival.\nBILLETS
DTSTART:20240718T234500Z
DTEND:20240719T013000Z
GEO:+47.440113;-70.505608
LOCATION:Place Desjardins
ORGANIZER:
SEQUENCE:1
SUMMARY:Émile Bilodeau - Le Festif!
TRANSP:OPAQUE
URL:https://www.baiesaintpaulguide.com/component/icagenda/emile-bilodeau-le
 -festif.html?Itemid=103
END:VEVENT
END:VCALENDAR
