BEGIN:VCALENDAR
VERSION:2.0
PRODID:-//Baie-Saint-Paul Guide//NONSGML kigkonsult.se iCalcreator 2.30.10/
 /
CALSCALE:GREGORIAN
METHOD:PUBLISH
UID:5363978f-d4b8-4e64-8cc0-cda82d327c60
X-WR-CALNAME:iCagenda
X-WR-CALDESC:Event Management Extension for Joomla!
X-WR-RELCALID:3E26604A-50F4-4449-8B3E-E4F4932D05B5
X-WR-TIMEZONE:America/Toronto
BEGIN:VTIMEZONE
TZID:America/Toronto
BEGIN:STANDARD
TZNAME:EST
DTSTART:20231105T020000
TZOFFSETFROM:-0400
TZOFFSETTO:-0500
RDATE:20241103T020000
RDATE:20251102T020000
END:STANDARD
BEGIN:DAYLIGHT
TZNAME:EDT
DTSTART:20240310T020000
TZOFFSETFROM:-0500
TZOFFSETTO:-0400
RDATE:20250309T020000
END:DAYLIGHT
END:VTIMEZONE
BEGIN:VEVENT
UID:dfe335ec-d34d-412d-b3e1-4ec4278e8473
DTSTAMP:20260423T093315Z
CATEGORIES:Animation Baie-Saint-Paul
CLASS:PUBLIC
DESCRIPTION;ALTREP="CID:<FFFF__=0ABBE548DFE235B58f9e8a93d@coffeebean.com>":
 \n\n\n\nÉlodie Sanna est une artiste de cirque spécialisée dans la roue al
 lemande\, diplômée de l'École de Cirque de Québec en juin 2021. Lauréate d
 e concours tels que 'Jeunes Talents' et 'Talents d'Artistes' en France\, e
 lle a performé devant divers publics. Co-fondatrice du collectif 'La Main 
 dans le Sac'\, elle a participé à des événements à Québec comme le 'Carnav
 al d'hiver' et les 'Fêtes de la Nouvelle-France'. Avec ses nombreuses expé
 riences\, Élodie aspire à s'épanouir davantage en tant qu'artiste\, toujou
 rs motivée par la découverte et le travail.\n&nbsp\;\n\n\n\n\n\n\n\n\n\n\n
 Passionnée par le cirque depuis l'âge de 5 ans\, Élodie a commencé dans le
  sud de la France et s'est spécialisée dans la perche chinoise en duo à Ch
 âlons-en-Champagne. À l'École de Cirque de Québec\, elle a découvert la ro
 ue allemande et le vélo acrobatique. Définie par son désir de transmettre 
 sa passion et de se surpasser\, Élodie se produit avec enthousiasme et dév
 ouement. Son spectacle est une démonstration impressionnante de ses talent
 s et l'entrée est gratuite.\n\n\n\n\n\n
DTSTART:20240712T223000Z
DTEND:20240712T231500Z
GEO:+47.441021;-70.506462
LOCATION:Place de l'Église
ORGANIZER:
SEQUENCE:1
SUMMARY:Élodie Sanna - cirque
TRANSP:OPAQUE
URL:https://www.baiesaintpaulguide.com/component/icagenda/elodie-sanna-cirq
 ue.html?Itemid=103
END:VEVENT
END:VCALENDAR
