BEGIN:VCALENDAR
VERSION:2.0
PRODID:-//Baie-Saint-Paul Guide//NONSGML kigkonsult.se iCalcreator 2.30.10/
 /
CALSCALE:GREGORIAN
METHOD:PUBLISH
UID:957afc8d-e5da-4d7d-aee1-e09e0f984004
X-WR-CALNAME:iCagenda
X-WR-CALDESC:Event Management Extension for Joomla!
X-WR-RELCALID:3E26604A-50F4-4449-8B3E-E4F4932D05B5
X-WR-TIMEZONE:America/Toronto
BEGIN:VTIMEZONE
TZID:America/Toronto
BEGIN:STANDARD
TZNAME:EST
DTSTART:20231105T020000
TZOFFSETFROM:-0400
TZOFFSETTO:-0500
RDATE:20241103T020000
RDATE:20251102T020000
END:STANDARD
BEGIN:DAYLIGHT
TZNAME:EDT
DTSTART:20240310T020000
TZOFFSETFROM:-0500
TZOFFSETTO:-0400
RDATE:20250309T020000
END:DAYLIGHT
END:VTIMEZONE
BEGIN:VEVENT
UID:4f0c4e5a-6c3a-4927-a92a-4f60b692c1f2
DTSTAMP:20260423T093035Z
CATEGORIES:Le Festif!
CLASS:PUBLIC
DESCRIPTION;ALTREP="CID:<FFFF__=0ABBE548DFE235B58f9e8a93d@coffeebean.com>":
 Düfff fait partie de Le Festif! et est totalement gratuit. Ses débuts marq
 uants incluent la victoire à Secondaire en spectacle au niveau local\, ce 
 qui l’a amené à performer à la finale régionale à deux reprises à la Salle
  Albert-Rousseau. Il y a une dizaine d’années\, avec trois autres comparse
 s\, Düfff participait à Bouge la tête sur FM Charlevoix\, une émission con
 sacrée au hip-hop où les disques et les tables tournantes tournaient.
DTSTART:20240717T213000Z
DTEND:20240717T220000Z
GEO:+47.439861;-70.506615
LOCATION:Le Parvis ICI Musique
ORGANIZER:
SEQUENCE:1
SUMMARY:DÜFFF - Le Festif!
TRANSP:OPAQUE
URL:https://www.baiesaintpaulguide.com/component/icagenda/duefff-le-festif.
 html?Itemid=103
END:VEVENT
END:VCALENDAR
