BEGIN:VCALENDAR
VERSION:2.0
PRODID:-//Baie-Saint-Paul Guide//NONSGML kigkonsult.se iCalcreator 2.30.10/
 /
CALSCALE:GREGORIAN
METHOD:PUBLISH
UID:8265ce70-78ae-429d-9859-094d865066d7
X-WR-CALNAME:iCagenda
X-WR-CALDESC:Event Management Extension for Joomla!
X-WR-RELCALID:3E26604A-50F4-4449-8B3E-E4F4932D05B5
X-WR-TIMEZONE:America/Toronto
BEGIN:VTIMEZONE
TZID:America/Toronto
BEGIN:STANDARD
TZNAME:EST
DTSTART:20231105T020000
TZOFFSETFROM:-0400
TZOFFSETTO:-0500
RDATE:20241103T020000
RDATE:20251102T020000
END:STANDARD
BEGIN:DAYLIGHT
TZNAME:EDT
DTSTART:20240310T020000
TZOFFSETFROM:-0500
TZOFFSETTO:-0400
RDATE:20250309T020000
END:DAYLIGHT
END:VTIMEZONE
BEGIN:VEVENT
UID:98fef105-cd9b-4885-a24d-49adb3fdef77
DTSTAMP:20260423T093320Z
CATEGORIES:Le Festif!
CLASS:PUBLIC
DESCRIPTION;ALTREP="CID:<FFFF__=0ABBE548DFE235B58f9e8a93d@coffeebean.com>":
 Retrouvez dope.gng pour un concert unique à minuit\, à bord d'un bus circu
 lant dans les rues de Baie-Saint-Paul. Ce duo de rap montréalais formé par
  Zilla (Marven Jean) et Yabock (Victor Tremblay-Desrosiers) est réputé pou
 r son style fusionnant trap narcotique\, trap emo et éléments punk. Leur m
 usique\, décrite comme audacieuse et diversifiée par Dilla\, explore des h
 orizons musicaux variés.\nOriginaires de l'Est de Montréal\, Marven et Vic
 tor se sont rencontrés au Collège Jean-Eudes où ils étudiaient le jazz. Ma
 rven\, également DJ et ancien violoniste\, et Victor\, batteur de longue d
 ate\, unissent leurs talents pour former dope.gng. Le duo a marqué les esp
 rits avec leur projet Dopamine\, et a depuis sorti plusieurs albums acclam
 és comme 'Fiend' en 2019 et 'Top net' en 2022\, tous deux produits par le 
 collectif Novengitum.\nLa consommation de drogue est un thème récurrent da
 ns leurs paroles\, abordé de manière franche pour déconstruire les stéréot
 ypes. Leur impact dans la scène musicale québécoise a été salué par plusie
 urs distinctions\, notamment une nomination aux GAMIQ et une reconnaissanc
 e aux Francouvertes et au festival Santa Teresa.\nNe manquez pas cette per
 formance inédite où dope.gng vous plongera dans leur univers musical inten
 se et captivant\, au cœur de l'ambiance vibrante du Festif!\nBILLETS
DTSTART:20240721T040000Z
DTEND:20240721T043000Z
GEO:+47.440353;-70.507401
LOCATION:Bus Festif! Radio-Canada
ORGANIZER:
SEQUENCE:1
SUMMARY:Dope.Gng - Le Festif!
TRANSP:OPAQUE
URL:https://www.baiesaintpaulguide.com/component/icagenda/dope-gng-le-festi
 f.html?Itemid=103
END:VEVENT
END:VCALENDAR
