BEGIN:VCALENDAR
VERSION:2.0
PRODID:-//Baie-Saint-Paul Guide//NONSGML kigkonsult.se iCalcreator 2.30.10/
 /
CALSCALE:GREGORIAN
METHOD:PUBLISH
UID:178d0a51-64bb-4551-8800-dd3141107a9a
X-WR-CALNAME:iCagenda
X-WR-CALDESC:Event Management Extension for Joomla!
X-WR-RELCALID:3E26604A-50F4-4449-8B3E-E4F4932D05B5
X-WR-TIMEZONE:America/Toronto
BEGIN:VTIMEZONE
TZID:America/Toronto
BEGIN:STANDARD
TZNAME:EST
DTSTART:20231105T020000
TZOFFSETFROM:-0400
TZOFFSETTO:-0500
RDATE:20241103T020000
RDATE:20251102T020000
END:STANDARD
BEGIN:DAYLIGHT
TZNAME:EDT
DTSTART:20240310T020000
TZOFFSETFROM:-0500
TZOFFSETTO:-0400
RDATE:20250309T020000
END:DAYLIGHT
END:VTIMEZONE
BEGIN:VEVENT
UID:bb9053d0-c1bb-4d28-994f-d96c78ff35a9
DTSTAMP:20260423T093441Z
CATEGORIES:Le Festif!
CLASS:PUBLIC
DESCRIPTION;ALTREP="CID:<FFFF__=0ABBE548DFE235B58f9e8a93d@coffeebean.com>":
 Retrouvez dope.gng pour un concert unique à 00h40\, à bord d'un bus circul
 ant dans les rues de Baie-Saint-Paul. Ce duo de rap montréalais formé par 
 Zilla (Marven Jean) et Yabock (Victor Tremblay-Desrosiers) est réputé pour
  son style fusionnant trap narcotique\, trap emo et éléments punk. Leur mu
 sique\, décrite comme audacieuse et diversifiée par Dilla\, explore des ho
 rizons musicaux variés.\nOriginaires de l'Est de Montréal\, Marven et Vict
 or se sont rencontrés au Collège Jean-Eudes où ils étudiaient le jazz. Mar
 ven\, également DJ et ancien violoniste\, et Victor\, batteur de longue da
 te\, unissent leurs talents pour former dope.gng. Le duo a marqué les espr
 its avec leur projet Dopamine\, et a depuis sorti plusieurs albums acclamé
 s comme 'Fiend' en 2019 et 'Top net' en 2022\, tous deux produits par le c
 ollectif Novengitum.\nLa consommation de drogue est un thème récurrent dan
 s leurs paroles\, abordé de manière franche pour déconstruire les stéréoty
 pes. Leur impact dans la scène musicale québécoise a été salué par plusieu
 rs distinctions\, notamment une nomination aux GAMIQ et une reconnaissance
  aux Francouvertes et au festival Santa Teresa.\nNe manquez pas cette perf
 ormance inédite où dope.gng vous plongera dans leur univers musical intens
 e et captivant\, au cœur de l'ambiance vibrante du Festif!\nBILLETS
DTSTART:20240721T044000Z
DTEND:20240721T051000Z
GEO:+47.440353;-70.507401
LOCATION:Bus Festif! Radio-Canada
ORGANIZER:
SEQUENCE:1
SUMMARY:Dope.Gng - Le Festif!
TRANSP:OPAQUE
URL:https://www.baiesaintpaulguide.com/component/icagenda/dope-gng-le-festi
 f-2.html?Itemid=103
END:VEVENT
END:VCALENDAR
