BEGIN:VCALENDAR
VERSION:2.0
PRODID:-//Baie-Saint-Paul Guide//NONSGML kigkonsult.se iCalcreator 2.30.10/
 /
CALSCALE:GREGORIAN
METHOD:PUBLISH
UID:3b9bfbbf-effc-46f3-8d7f-74293ff774df
X-WR-CALNAME:iCagenda
X-WR-CALDESC:Event Management Extension for Joomla!
X-WR-RELCALID:3E26604A-50F4-4449-8B3E-E4F4932D05B5
X-WR-TIMEZONE:America/Toronto
BEGIN:VTIMEZONE
TZID:America/Toronto
BEGIN:STANDARD
TZNAME:EST
DTSTART:20231105T020000
TZOFFSETFROM:-0400
TZOFFSETTO:-0500
RDATE:20241103T020000
RDATE:20251102T020000
END:STANDARD
BEGIN:DAYLIGHT
TZNAME:EDT
DTSTART:20240310T020000
TZOFFSETFROM:-0500
TZOFFSETTO:-0400
RDATE:20250309T020000
END:DAYLIGHT
END:VTIMEZONE
BEGIN:VEVENT
UID:65fc3f90-c1e4-4347-9c5c-9e3ddeb09cad
DTSTAMP:20260423T093656Z
CATEGORIES:Symposium de Baie-Saint-Paul
CLASS:PUBLIC
DESCRIPTION;ALTREP="CID:<FFFF__=0ABBE548DFE235B58f9e8a93d@coffeebean.com>":
 La Dre Demelza Kooij présente trois courts métrages qu'elle a réalisés\, c
 hacun explorant le concept du 'plus-que-humain'. Elle montre comment Grami
 noids (2014) et Wolves From Above (2018) tentent tous deux d'établir une c
 onnexion viscérale et empathique entre le spectateur et les organismes non
  humains (herbe et loups). Elle présentera également The Breeder (2017)\, 
 qui aborde comment notre appétit pour tout ce qui est mignon peut entraîne
 r la défiguration des animaux de compagnie.\nLa présentation sera suivie d
 'une session de questions-réponses avec l'artiste\, en anglais.\nBIO Dre D
 emelza Kooij est réalisatrice et universitaire. Ses intérêts cinématograph
 iques et de recherche portent sur la représentation d'autres mondes : les 
 écologies marines\, terrestres\, célestes et les échanges entre les deux. 
 Elle détient un doctorat en production cinématographique axée sur la prati
 que (2020\, Université John Moores de Liverpool) qui se concentre sur l'em
 pathie envers les animaux dans le documentaire. Elle est également titulai
 re d'une licence en archéologie (Université d'Amsterdam\, 2008)\, d'une ma
 îtrise en philosophie (Université d'Amsterdam\, 2009) et d'une maîtrise en
  réalisation documentaire (Université Royal Holloway de Londres\, 2010). S
 es films ont été présentés dans des festivals de cinéma renommés\, des con
 férences et des musées à l'international. Parmi les faits saillants\, cito
 ns le prix du jury au 57e Festival du film d'Ann Arbor en 2019 pour Wolves
  From Above\, ainsi que des projections au Festival du Nouveau Cinéma de M
 ontréal\, au Hamptons IFF\, à l'Edinburgh IFF\, au Musée finlandais de la 
 photographie à Helsinki\, au FACT de Liverpool et au Musée national d'art 
 moderne et contemporain de Séoul [MMCA]. Jusqu'à récemment\, elle était pr
 ofesseure associée en production cinématographique à l'université d'Édimbo
 urg Napier. Elle a démissionné de ce poste pour achever son premier long m
 étrage documentaire\, Wolf Park\, tourné au Québec au Parc Mahikan.
DTSTART:20240731T230000Z
DTEND:20240801T000000Z
GEO:+47.440136;-70.505211
LOCATION:Symposium international d'art contemporain
ORGANIZER:
SEQUENCE:1
SUMMARY:Demelza Kooij - Au-delà de l’humain
TRANSP:OPAQUE
URL:https://www.baiesaintpaulguide.com/component/icagenda/demelza-kooij-au-
 dela-de-lhumain.html?Itemid=103
END:VEVENT
END:VCALENDAR
