BEGIN:VCALENDAR
VERSION:2.0
PRODID:-//Baie-Saint-Paul Guide//NONSGML kigkonsult.se iCalcreator 2.30.10/
 /
CALSCALE:GREGORIAN
METHOD:PUBLISH
UID:740e5176-4a16-41cc-beac-1363039743be
X-WR-CALNAME:iCagenda
X-WR-CALDESC:Event Management Extension for Joomla!
X-WR-RELCALID:3E26604A-50F4-4449-8B3E-E4F4932D05B5
X-WR-TIMEZONE:America/Toronto
BEGIN:VTIMEZONE
TZID:America/Toronto
BEGIN:STANDARD
TZNAME:EST
DTSTART:20231105T020000
TZOFFSETFROM:-0400
TZOFFSETTO:-0500
RDATE:20241103T020000
RDATE:20251102T020000
END:STANDARD
BEGIN:DAYLIGHT
TZNAME:EDT
DTSTART:20240310T020000
TZOFFSETFROM:-0500
TZOFFSETTO:-0400
RDATE:20250309T020000
END:DAYLIGHT
END:VTIMEZONE
BEGIN:VEVENT
UID:baa621e5-7c5c-4c54-8a9f-b397fa2d8208
DTSTAMP:20260423T093441Z
CATEGORIES:Le Festif!
CLASS:PUBLIC
DESCRIPTION;ALTREP="CID:<FFFF__=0ABBE548DFE235B58f9e8a93d@coffeebean.com>":
 Rejoignez-nous pour un concert envoûtant de Clara Dahlie au BBQ CHYZ lors 
 du Festif! Clara Dahlie\, baignée depuis son enfance dans un environnement
  familial d'artistes visuels\, fusionne harmonieusement sa passion pour la
  musique électronique\, le jazz\, le soul et le r&amp\;b. Pour elle\, la m
 usique et les couleurs ne font qu'un\, créant ainsi un sanctuaire musical 
 unique où chaque note résonne avec intensité et émotion.\nCe concert gratu
 it promet une immersion totale dans l'univers captivant de Clara Dahlie. N
 e manquez pas cette occasion de découvrir une artiste qui repousse les fro
 ntières musicales et vous transporte dans un voyage sonore riche en textur
 es et en harmonies. Rejoignez-nous pour une soirée mémorable au Festif!\, 
 où la magie de la musique vous attend au cœur du BBQ CHYZ.
DTSTART:20240720T160000Z
DTEND:20240720T170000Z
GEO:+47.443939;-70.508316
LOCATION:BBQ CHYZ
ORGANIZER:
SEQUENCE:1
SUMMARY:Clara Dahlie - Le Festif!
TRANSP:OPAQUE
URL:https://www.baiesaintpaulguide.com/component/icagenda/clara-dahlie-le-f
 estif.html?Itemid=103
END:VEVENT
END:VCALENDAR
