BEGIN:VCALENDAR
VERSION:2.0
PRODID:-//Baie-Saint-Paul Guide//NONSGML kigkonsult.se iCalcreator 2.30.10/
 /
CALSCALE:GREGORIAN
METHOD:PUBLISH
UID:0a90f27b-14cc-4737-8e74-848409e99cdf
X-WR-CALNAME:iCagenda
X-WR-CALDESC:Event Management Extension for Joomla!
X-WR-RELCALID:3E26604A-50F4-4449-8B3E-E4F4932D05B5
X-WR-TIMEZONE:America/Toronto
BEGIN:VTIMEZONE
TZID:America/Toronto
BEGIN:STANDARD
TZNAME:EST
DTSTART:20241103T020000
TZOFFSETFROM:-0400
TZOFFSETTO:-0500
RDATE:20251102T020000
END:STANDARD
BEGIN:DAYLIGHT
TZNAME:EDT
DTSTART:20240310T020000
TZOFFSETFROM:-0500
TZOFFSETTO:-0400
RDATE:20250309T020000
RDATE:20260308T020000
END:DAYLIGHT
END:VTIMEZONE
BEGIN:VEVENT
UID:305171af-5daf-4c6b-ac39-fe5f782c1e66
DTSTAMP:20260423T030829Z
CATEGORIES:Soirée
CLASS:PUBLIC
DESCRIPTION;ALTREP="CID:<FFFF__=0ABBE548DFE235B58f9e8a93d@coffeebean.com>":
 Champs Libres est de retour!\nDu 10 octobre au 5 décembre\, de grands chef
 s invités prendront à nouveau place au restaurant Les Labours pour créer d
 es menus uniques accompagnés par la brigade du chef Patrick Dubé.\nAu cœur
  du quartier du petit Champlain à Québec\, l’Orygine est une ode aux produ
 its végétaux locaux et à la cuisine moderne. Grâce à approche culinaire « 
 comme un échange »\, la cheffe exécutive et co-propriétaire Sabrina Lemay 
 y sublime les légumes du Québec et nous surprend avec des assiettes végéta
 riennes ou même végétaliennes. La rencontre entre cette cheffe prodigieuse
  originaire de Shawinigan et nos jardins s’annonce haute en couleur et ses
  assiettes hautes en saveurs !\nPour réserver : https://booking.libroreser
 ve.com/.../QC015100180697/seat...
DTSTART:20241121T223000Z
DTEND:20241122T003000Z
GEO:+47.435905;-70.504669
LOCATION:Restaurant Les Labours - Hôtel & Spa Le Germain Charlevoix
ORGANIZER:
SEQUENCE:1
SUMMARY:Champs Libres - Sabrina Lemay - L’Orygine
TRANSP:OPAQUE
URL:https://www.baiesaintpaulguide.com/component/icagenda/champs-libres-sab
 rina-lemay-lorygine.html?Itemid=103
END:VEVENT
END:VCALENDAR
