BEGIN:VCALENDAR
VERSION:2.0
PRODID:-//Baie-Saint-Paul Guide//NONSGML kigkonsult.se iCalcreator 2.30.10/
 /
CALSCALE:GREGORIAN
METHOD:PUBLISH
UID:4a2245ee-07ef-408f-b08d-3f5eefcc603a
X-WR-CALNAME:iCagenda
X-WR-CALDESC:Event Management Extension for Joomla!
X-WR-RELCALID:3E26604A-50F4-4449-8B3E-E4F4932D05B5
X-WR-TIMEZONE:America/Toronto
BEGIN:VTIMEZONE
TZID:America/Toronto
BEGIN:STANDARD
TZNAME:EST
DTSTART:20241103T020000
TZOFFSETFROM:-0400
TZOFFSETTO:-0500
RDATE:20251102T020000
END:STANDARD
BEGIN:DAYLIGHT
TZNAME:EDT
DTSTART:20240310T020000
TZOFFSETFROM:-0500
TZOFFSETTO:-0400
RDATE:20250309T020000
RDATE:20260308T020000
END:DAYLIGHT
END:VTIMEZONE
BEGIN:VEVENT
UID:bc0b46dd-2b97-405f-a8b0-7e92261d24cf
DTSTAMP:20260423T030910Z
CATEGORIES:Soirée
CLASS:PUBLIC
DESCRIPTION;ALTREP="CID:<FFFF__=0ABBE548DFE235B58f9e8a93d@coffeebean.com>":
 Champs Libres est de retour!\nDu 10 octobre au 5 décembre\, de grands chef
 s invités prendront à nouveau place au restaurant Les Labours pour créer d
 es menus uniques accompagnés par la brigade du chef Patrick Dubé.\nDavid F
 orbes a trouvé refuge en haut de la montagne du Massif pour ouvrir le Camp
  Boule qui surplombe désormais Charlevoix et le Saint-Laurent. En tant que
  Chef exécutif et co-propriétaire\, il met en lumière le travail des artis
 ans de la région\, mais aussi\, et surtout\, celui de la nature elle-même.
  Il travaille dans le plus grand respect des produits et du rythme de sais
 ons et n’hésites pas à faire connaître les produits forestiers qui l’entou
 rent. Des assiettes pleines de fraîcheur et de belles découvertes en persp
 ective!\nPour réserver : https://booking.libroreserve.com/.../QC0151001806
 97/seat...\nEnvie de prolonger l'expérience et de séjourner sur place ? Co
 ntactez notre équipe pour obtenir un tarif avantageux le soir de l'événeme
 nt ! 418 240-4100 
DTSTART:20241128T223000Z
DTEND:20241129T003000Z
GEO:+47.435905;-70.504669
LOCATION:Hôtel & Spa Le Germain Charlevoix
ORGANIZER:
SEQUENCE:1
SUMMARY:Champs Libres - David Forbes - Camp Boule - Buvette de montagne
TRANSP:OPAQUE
URL:https://www.baiesaintpaulguide.com/component/icagenda/champs-libres-dav
 id-forbes-camp-boule-buvette-de-montagne.html?Itemid=103
END:VEVENT
END:VCALENDAR
