BEGIN:VCALENDAR
VERSION:2.0
PRODID:-//Baie-Saint-Paul Guide//NONSGML kigkonsult.se iCalcreator 2.30.10/
 /
CALSCALE:GREGORIAN
METHOD:PUBLISH
UID:8fee0818-8de3-4cdd-9ed9-99bc34e06261
X-WR-CALNAME:iCagenda
X-WR-CALDESC:Event Management Extension for Joomla!
X-WR-RELCALID:3E26604A-50F4-4449-8B3E-E4F4932D05B5
X-WR-TIMEZONE:America/Toronto
BEGIN:VTIMEZONE
TZID:America/Toronto
BEGIN:STANDARD
TZNAME:EST
DTSTART:20231105T020000
TZOFFSETFROM:-0400
TZOFFSETTO:-0500
RDATE:20241103T020000
RDATE:20251102T020000
END:STANDARD
BEGIN:DAYLIGHT
TZNAME:EDT
DTSTART:20240310T020000
TZOFFSETFROM:-0500
TZOFFSETTO:-0400
RDATE:20250309T020000
END:DAYLIGHT
END:VTIMEZONE
BEGIN:VEVENT
UID:c1d214dd-0acd-4e6f-a617-770e74b652b7
DTSTAMP:20260423T093610Z
CATEGORIES:Le Potager
CLASS:PUBLIC
DESCRIPTION;ALTREP="CID:<FFFF__=0ABBE548DFE235B58f9e8a93d@coffeebean.com>":
 Nous avons le plaisir de vous inviter à une causerie-conférence exceptionn
 elle sur l’agroécologie présentée par M. Alain Olivier\, professeur titula
 ire à la Faculté des sciences de l'agriculture et de l'alimentation de l'U
 niversité Laval et auteur du livre La révolution agroécologique aux éditio
 ns Écosociété. Spécialiste de l’agroforesterie\, il met en lumière les fac
 teurs sociaux cruciaux pour l’adoption de pratiques agricoles durables\, e
 ssentielles pour atteindre une sécurité alimentaire accrue.\nAu cours de c
 et entretien\, M. Olivier nous exposera les principes scientifiques et les
  pratiques agricoles de l’agroécologie. Il nous montrera l'importance de l
 a gestion appropriée des sols\, du recyclage de la biomasse\, de la protec
 tion de l’eau et des écosystèmes. Les rotations\, les associations de cult
 ures et l’agroforesterie devraient devenir des normes\, intégrant l’élevag
 e de manière raisonnée.\nEn cette ère de changements climatiques\, l’agroé
 cologie représente une voie prometteuse pour transformer les relations ent
 re l’humanité\, la nourriture et notre environnement.
DTSTART:20240707T140000Z
DTEND:20240707T150000Z
GEO:+47.437653;-70.504501
LOCATION:Le Potager
ORGANIZER:
SEQUENCE:1
SUMMARY:Causerie - L’agroécologie au service de la société
TRANSP:OPAQUE
URL:https://www.baiesaintpaulguide.com/component/icagenda/causerie-lagroeco
 logie-au-service-de-la-societe.html?Itemid=103
END:VEVENT
END:VCALENDAR
