BEGIN:VCALENDAR
VERSION:2.0
PRODID:-//Baie-Saint-Paul Guide//NONSGML kigkonsult.se iCalcreator 2.30.10/
 /
CALSCALE:GREGORIAN
METHOD:PUBLISH
UID:8e90d7a1-cd71-4b42-9cfc-fa62a8c31442
X-WR-CALNAME:iCagenda
X-WR-CALDESC:Event Management Extension for Joomla!
X-WR-RELCALID:3E26604A-50F4-4449-8B3E-E4F4932D05B5
X-WR-TIMEZONE:America/Toronto
BEGIN:VTIMEZONE
TZID:America/Toronto
BEGIN:STANDARD
TZNAME:EST
DTSTART:20231105T020000
TZOFFSETFROM:-0400
TZOFFSETTO:-0500
RDATE:20241103T020000
RDATE:20251102T020000
END:STANDARD
BEGIN:DAYLIGHT
TZNAME:EDT
DTSTART:20240310T020000
TZOFFSETFROM:-0500
TZOFFSETTO:-0400
RDATE:20250309T020000
END:DAYLIGHT
END:VTIMEZONE
BEGIN:VEVENT
UID:75f4d6db-d8a1-4665-9633-26241a219d2f
DTSTAMP:20260423T094009Z
CATEGORIES:Fête du Canada
CLASS:PUBLIC
DESCRIPTION;ALTREP="CID:<FFFF__=0ABBE548DFE235B58f9e8a93d@coffeebean.com>":
 Joignez-vous à nous pour célébrer la fête du Canada sous le thème des trad
 itions canadiennes avec une journée remplie d'activités pour toute la fami
 lle. Participez à des ateliers de bricolage comme la création du castor in
 terculturel et la confection d'un tipi miniature. Profitez également de ma
 quillage et de tatouages\, et visitez la fermette de Marie-Noëlle Beaulieu
  pour découvrir les animaux de la ferme. Les jeux gonflables offriront des
  heures de plaisir aux enfants\n\nBricolage: Le castor interculturel\nMaqu
 illage et tattoo\nBricolage d'un tipi miniature\nFermette de Marie-Noëlle 
 Beaulieu\nJeux gonflables\n\nIl est interdit d'apporter vos propres boisso
 ns alcoolisées sur le site\, mais un service de bar et de restauration ser
 a disponible sur place. En cas de pluie\, les activités auront lieu à l'in
 térieur de l'aréna Luc-et-Marie-Claude. Venez nombreux célébrer cette jour
 née spéciale avec nous!
DTSTART:20240701T180000Z
DTEND:20240701T220000Z
GEO:+47.439095;-70.51799
LOCATION:Parc Saint-Aubin
ORGANIZER:
SEQUENCE:1
SUMMARY:Bricolage\, Maquillage\, Fermette et Jeux gonflables - Fête du Cana
 da
TRANSP:OPAQUE
URL:https://www.baiesaintpaulguide.com/component/icagenda/bricolage-maquill
 age-fermette-et-jeux-gonflables-fete-du-canada.html?Itemid=103
END:VEVENT
END:VCALENDAR
