BEGIN:VCALENDAR
VERSION:2.0
PRODID:-//Baie-Saint-Paul Guide//NONSGML kigkonsult.se iCalcreator 2.30.10/
 /
CALSCALE:GREGORIAN
METHOD:PUBLISH
UID:7da922fc-db9f-4a99-9af6-9476f0ff661b
X-WR-CALNAME:iCagenda
X-WR-CALDESC:Event Management Extension for Joomla!
X-WR-RELCALID:3E26604A-50F4-4449-8B3E-E4F4932D05B5
X-WR-TIMEZONE:America/Toronto
BEGIN:VTIMEZONE
TZID:America/Toronto
BEGIN:STANDARD
TZNAME:EST
DTSTART:20231105T020000
TZOFFSETFROM:-0400
TZOFFSETTO:-0500
RDATE:20241103T020000
RDATE:20251102T020000
END:STANDARD
BEGIN:DAYLIGHT
TZNAME:EDT
DTSTART:20240310T020000
TZOFFSETFROM:-0500
TZOFFSETTO:-0400
RDATE:20250309T020000
END:DAYLIGHT
END:VTIMEZONE
BEGIN:VEVENT
UID:11285d0a-230a-4287-b7fd-40646bd91275
DTSTAMP:20260423T093205Z
CATEGORIES:Le Festif!
CLASS:PUBLIC
DESCRIPTION;ALTREP="CID:<FFFF__=0ABBE548DFE235B58f9e8a93d@coffeebean.com>":
 Rejoignez-nous pour une expérience musicale unique à bord d'un bus lors du
  Le Festif! Bønanza vous invite à voir les choses d’un nouvel œil\, possib
 lement le troisième. Dominic Pelletier\, sous son alter-ego déjanté Bønanz
 a\, offre une aventure sonore entre délire psychédélique et mise à nu touc
 hante avec son album 'Prince Limonade'.  Avec des accents Funk\, Soul et P
 op\, Bønanza mêle plaisir\, sincérité\, nostalgie et douceur. Cumulant des
  millions d’écoutes et plus de 700 spectacles à travers ses différents pro
 jets\, Pelletier trace son propre chemin grâce à sa fougue\, sa déterminat
 ion et son talent.\nNe manquez pas cette occasion de découvrir Bønanza en 
 live lors du festival Le Festif!BILLETS
DTSTART:20240721T000000Z
DTEND:20240721T003000Z
GEO:+47.440411;-70.507446
LOCATION:Bus Festif! Radio-Canada
ORGANIZER:
SEQUENCE:1
SUMMARY:Bønanza - Le Festif!
TRANSP:OPAQUE
URL:https://www.baiesaintpaulguide.com/component/icagenda/bonanza-le-festif
 .html?Itemid=103
END:VEVENT
END:VCALENDAR
