BEGIN:VCALENDAR
VERSION:2.0
PRODID:-//Baie-Saint-Paul Guide//NONSGML kigkonsult.se iCalcreator 2.30.10/
 /
CALSCALE:GREGORIAN
METHOD:PUBLISH
UID:e95b612a-f988-4bee-bfe4-afa8c8b7b035
X-WR-CALNAME:iCagenda
X-WR-CALDESC:Event Management Extension for Joomla!
X-WR-RELCALID:3E26604A-50F4-4449-8B3E-E4F4932D05B5
X-WR-TIMEZONE:America/Toronto
BEGIN:VTIMEZONE
TZID:America/Toronto
BEGIN:STANDARD
TZNAME:EST
DTSTART:20231105T020000
TZOFFSETFROM:-0400
TZOFFSETTO:-0500
RDATE:20241103T020000
RDATE:20251102T020000
END:STANDARD
BEGIN:DAYLIGHT
TZNAME:EDT
DTSTART:20240310T020000
TZOFFSETFROM:-0500
TZOFFSETTO:-0400
RDATE:20250309T020000
END:DAYLIGHT
END:VTIMEZONE
BEGIN:VEVENT
UID:68d22f5a-e3af-4c73-88d5-8a05ee4f7a93
DTSTAMP:20260423T093321Z
CATEGORIES:Le Festif!
CLASS:PUBLIC
DESCRIPTION;ALTREP="CID:<FFFF__=0ABBE548DFE235B58f9e8a93d@coffeebean.com>":
 Rejoignez-nous pour une expérience musicale unique à bord d'un bus lors du
  Le Festif! Bønanza vous invite à voir les choses d’un nouvel œil\, possib
 lement le troisième. Dominic Pelletier\, sous son alter-ego déjanté Bønanz
 a\, offre une aventure sonore entre délire psychédélique et mise à nu touc
 hante avec son album 'Prince Limonade'.&nbsp\; Avec des accents Funk\, Sou
 l et Pop\, Bønanza mêle plaisir\, sincérité\, nostalgie et douceur. Cumula
 nt des millions d’écoutes et plus de 700 spectacles à travers ses différen
 ts projets\, Pelletier trace son propre chemin grâce à sa fougue\, sa déte
 rmination et son talent.\nNe manquez pas cette occasion de découvrir Bønan
 za en live lors du festival Le Festif!BILLETS
DTSTART:20240721T004000Z
DTEND:20240721T011000Z
GEO:+47.440411;-70.507446
LOCATION:Bus Festif! Radio-Canada
ORGANIZER:
SEQUENCE:1
SUMMARY:Bønanza - Le Festif!
TRANSP:OPAQUE
URL:https://www.baiesaintpaulguide.com/component/icagenda/bonanza-le-festif
 -2.html?Itemid=103
END:VEVENT
END:VCALENDAR
