BEGIN:VCALENDAR
VERSION:2.0
PRODID:-//Baie-Saint-Paul Guide//NONSGML kigkonsult.se iCalcreator 2.30.10/
 /
CALSCALE:GREGORIAN
METHOD:PUBLISH
UID:cc9b7ee2-247b-44a8-b1d7-2d85f4a8012e
X-WR-CALNAME:iCagenda
X-WR-CALDESC:Event Management Extension for Joomla!
X-WR-RELCALID:3E26604A-50F4-4449-8B3E-E4F4932D05B5
X-WR-TIMEZONE:America/Toronto
BEGIN:VTIMEZONE
TZID:America/Toronto
BEGIN:STANDARD
TZNAME:EST
DTSTART:20231105T020000
TZOFFSETFROM:-0400
TZOFFSETTO:-0500
RDATE:20241103T020000
RDATE:20251102T020000
END:STANDARD
BEGIN:DAYLIGHT
TZNAME:EDT
DTSTART:20240310T020000
TZOFFSETFROM:-0500
TZOFFSETTO:-0400
RDATE:20250309T020000
END:DAYLIGHT
END:VTIMEZONE
BEGIN:VEVENT
UID:ac5b652e-6aad-4d44-9eea-279f2b70c2eb
DTSTAMP:20260423T093315Z
CATEGORIES:Le Festif!
CLASS:PUBLIC
DESCRIPTION;ALTREP="CID:<FFFF__=0ABBE548DFE235B58f9e8a93d@coffeebean.com>":
 Rejoignez-nous pour une soirée musicale exceptionnelle avec Bombino\, le c
 élèbre chanteur-compositeur et guitariste touareg originaire du Niger. Ce 
 concert gratuit aura lieu au Garage du curé Exclaim! dans le cadre de Le F
 estif! Bombino\, connu pour ses chansons en Tamasheq qui abordent souvent 
 les préoccupations géopolitiques des Touaregs\, promet une performance ino
 ubliable avec ses rythmes envoûtants et ses mélodies captivantes.\nBombino
 \, de son vrai nom Omara Moctar\, a acquis une renommée internationale grâ
 ce à sa musique unique et à son talent exceptionnel à la guitare. Sa carri
 ère a débuté dans les camps touaregs et s'est étendue à travers le monde\,
  faisant de lui un ambassadeur culturel de sa communauté. Ne manquez pas c
 ette occasion de découvrir son incroyable talent et de vous immerger dans 
 les sons du désert touareg.
DTSTART:20240719T020000Z
DTEND:20240719T031500Z
GEO:+47.440765;-70.507042
LOCATION:Garage du curé Exclaim!
ORGANIZER:
SEQUENCE:1
SUMMARY:Bombino - Le Festif!
TRANSP:OPAQUE
URL:https://www.baiesaintpaulguide.com/component/icagenda/bombino-le-festif
 .html?Itemid=103
END:VEVENT
END:VCALENDAR
