BEGIN:VCALENDAR
VERSION:2.0
PRODID:-//Baie-Saint-Paul Guide//NONSGML kigkonsult.se iCalcreator 2.30.10/
 /
CALSCALE:GREGORIAN
METHOD:PUBLISH
UID:32972620-6e60-4968-8221-90bff5800371
X-WR-CALNAME:iCagenda
X-WR-CALDESC:Event Management Extension for Joomla!
X-WR-RELCALID:3E26604A-50F4-4449-8B3E-E4F4932D05B5
X-WR-TIMEZONE:America/Toronto
BEGIN:VTIMEZONE
TZID:America/Toronto
BEGIN:STANDARD
TZNAME:EST
DTSTART:20231105T020000
TZOFFSETFROM:-0400
TZOFFSETTO:-0500
RDATE:20241103T020000
RDATE:20251102T020000
END:STANDARD
BEGIN:DAYLIGHT
TZNAME:EDT
DTSTART:20240310T020000
TZOFFSETFROM:-0500
TZOFFSETTO:-0400
RDATE:20250309T020000
END:DAYLIGHT
END:VTIMEZONE
BEGIN:VEVENT
UID:9ed6015d-8a79-46c2-b138-8009b8519d60
DTSTAMP:20260423T093034Z
CATEGORIES:Le Festif!
CLASS:PUBLIC
DESCRIPTION;ALTREP="CID:<FFFF__=0ABBE548DFE235B58f9e8a93d@coffeebean.com>":
 Rejoignez-nous à La Basse-Cour des Viandes Bio de Charlevoix pour un conce
 rt gratuit de Bermuda. Née aux Bermudes\, élevée en Irlande et maintenant 
 installée à Sherbrooke\, Bermuda incarne les mères milléniales\, s'inspira
 nt des femmes d'aujourd'hui pour créer une musique pop engagée et funky.\n
 Sa musique fait bouger les foules\, touchant et connectant profondément av
 ec le public. Ne manquez pas cette occasion de découvrir une artiste uniqu
 e qui sait comment captiver son auditoire avec des performances vibrantes 
 et pleines d'énergie.
DTSTART:20240719T193000Z
DTEND:20240719T202000Z
GEO:+47.443794;-70.507607
LOCATION:La Basse-Cour des Viandes Bio de Charlevoix
ORGANIZER:
SEQUENCE:1
SUMMARY:Bermuda - Le Festif!
TRANSP:OPAQUE
URL:https://www.baiesaintpaulguide.com/component/icagenda/bermuda-le-festif
 .html?Itemid=103
END:VEVENT
END:VCALENDAR
